BEGIN:VCALENDAR
VERSION:2.0
PRODID:-//wp-events-plugin.com//7.2.3.1//EN
TZID:America/New_York
X-WR-TIMEZONE:America/New_York
BEGIN:VEVENT
UID:153353@kingstonhappenings.org
DTSTART;TZID=America/New_York:20260108T193000
DTEND;TZID=America/New_York:20260108T193000
DTSTAMP:20260105T125923Z
URL:https://kingstonhappenings.org/events/keegan-ales-comedy-show-an-aimle
 ss-media-production/
SUMMARY:Keegan Ales Comedy Show – An Aimless Media production
DESCRIPTION:Aimless Media is back at Keegan Ales to put on a great comedy s
 how. Thomas White (Adam Friedland Show) is January’s very funny headline
 r. $15 ahead of time\, $20 at the door.
ATTACH;FMTTYPE=image/jpeg:https://kingstonhappenings.org/wp-content/upload
 s/2026/01/https___cdn.evbuc_.com_images_1172653143_628682575723_1_original
 .jpg
CATEGORIES:@Featured,@Newsletter,Comedy,Nightlife and entertainment
LOCATION:Keegan Ales\, 20 Saint James Street\, Kingston\, NY\, 12401\, Unit
 ed States
GEO:41.931504;-74.01187
X-APPLE-STRUCTURED-LOCATION;VALUE=URI;X-ADDRESS=20 Saint James Street\, Kin
 gston\, NY\, 12401\, United States;X-APPLE-RADIUS=100;X-TITLE=Keegan Ales:
 geo:41.931504,-74.01187
END:VEVENT
BEGIN:VTIMEZONE
TZID:America/New_York
X-LIC-LOCATION:America/New_York
BEGIN:STANDARD
DTSTART:20251102T010000
TZOFFSETFROM:-0400
TZOFFSETTO:-0500
TZNAME:EST
END:STANDARD
END:VTIMEZONE
END:VCALENDAR