BEGIN:VCALENDAR
VERSION:2.0
PRODID:-//wp-events-plugin.com//7.2.3.1//EN
TZID:America/New_York
X-WR-TIMEZONE:America/New_York
BEGIN:VEVENT
UID:153002@kingstonhappenings.org
DTSTART;TZID=America/New_York:20251206T110000
DTEND;TZID=America/New_York:20251206T130000
DTSTAMP:20251202T183856Z
URL:https://kingstonhappenings.org/events/kcsd-green-team-holiday-toy-swap
 /
SUMMARY:KCSD Green Team Holiday Toy Swap
DESCRIPTION:\n\n\n\n\n\n\n\n\n\n\n\n\nThe Kingston City School District’s
  Green Team (a coalition of parents and caretakers with students in the Ki
 ngston City School District working for a sustainable future) is hosting a
  holiday toy swap. Bring your preloved toys and leave with something new(i
 sh)\, just in time for the holidays!\n\n\n\n\n\n\n\n\n\n\n\n\n\n
ATTACH;FMTTYPE=image/jpeg:https://kingstonhappenings.org/wp-content/upload
 s/2025/12/KCSD-GT-Winter-2025-Toy-Swap-Square.jpg
CATEGORIES:@Featured,@Newsletter,Community,For kids
LOCATION:Good Work Institute\, 65 St James St\, Kingston\, NY\, 12401\, Uni
 ted States
GEO:41.931343;-74.013831
X-APPLE-STRUCTURED-LOCATION;VALUE=URI;X-ADDRESS=65 St James St\, Kingston\,
  NY\, 12401\, United States;X-APPLE-RADIUS=100;X-TITLE=Good Work Institute
 :geo:41.931343,-74.013831
END:VEVENT
BEGIN:VTIMEZONE
TZID:America/New_York
X-LIC-LOCATION:America/New_York
BEGIN:STANDARD
DTSTART:20251102T010000
TZOFFSETFROM:-0400
TZOFFSETTO:-0500
TZNAME:EST
END:STANDARD
END:VTIMEZONE
END:VCALENDAR