BEGIN:VCALENDAR
VERSION:2.0
PRODID:-//wp-events-plugin.com//7.2.3.1//EN
TZID:America/New_York
X-WR-TIMEZONE:America/New_York
BEGIN:VEVENT
UID:153150@kingstonhappenings.org
DTSTART;TZID=America/New_York:20251219T190000
DTEND;TZID=America/New_York:20251219T190000
DTSTAMP:20251216T143615Z
URL:https://kingstonhappenings.org/events/karaoke-ugly-sweater-party/
SUMMARY:Karaoke Ugly Sweater Party
DESCRIPTION:Come party with us. Wear your ugliest Christmas sweater and com
 e sing some Christmas karaoke.
ATTACH;FMTTYPE=image/jpeg:https://kingstonhappenings.org/wp-content/upload
 s/2025/12/587689256_829983806668984_7010034005421358894_n.jpg
CATEGORIES:@Featured,@Newsletter,Comedy,Music,Nightlife and entertainment
LOCATION:Castaways Bar and Grill\, 160 1st St\, Connelly\, NY\, 12417\, Uni
 ted States
GEO:41.911152;-73.993801
X-APPLE-STRUCTURED-LOCATION;VALUE=URI;X-ADDRESS=160 1st St\, Connelly\, NY\
 , 12417\, United States;X-APPLE-RADIUS=100;X-TITLE=Castaways Bar and Grill
 :geo:41.911152,-73.993801
END:VEVENT
BEGIN:VTIMEZONE
TZID:America/New_York
X-LIC-LOCATION:America/New_York
BEGIN:STANDARD
DTSTART:20251102T010000
TZOFFSETFROM:-0400
TZOFFSETTO:-0500
TZNAME:EST
END:STANDARD
END:VTIMEZONE
END:VCALENDAR