BEGIN:VCALENDAR
VERSION:2.0
PRODID:-//wp-events-plugin.com//7.2.3.1//EN
TZID:America/New_York
X-WR-TIMEZONE:America/New_York
BEGIN:VEVENT
UID:152714@kingstonhappenings.org
DTSTART;TZID=America/New_York:20251121T190000
DTEND;TZID=America/New_York:20251121T220000
DTSTAMP:20251118T013852Z
URL:https://kingstonhappenings.org/events/karaoke-night-at-castaways-bar-g
 rill/
SUMMARY:Karaoke Night at Castaways Bar & Grill
DESCRIPTION:Come out to Castaways Bar &amp\; Grill this Friday! Happy Hour 
 starts at 5pm. Karaoke starts at 7pm.
ATTACH;FMTTYPE=image/jpeg:https://kingstonhappenings.org/wp-content/upload
 s/2025/11/file_00000000d5b4722f8f0882cfa8f6b44f_1762223562796.jpg
CATEGORIES:@Featured,@Newsletter,Happy Hours,Music,Nightlife and
 entertainment,Restaurant promotions
LOCATION:Castaways Bar and Grill\, 160 1st St\, Connelly\, NY\, 12417\, Uni
 ted States
GEO:41.911152;-73.993801
X-APPLE-STRUCTURED-LOCATION;VALUE=URI;X-ADDRESS=160 1st St\, Connelly\, NY\
 , 12417\, United States;X-APPLE-RADIUS=100;X-TITLE=Castaways Bar and Grill
 :geo:41.911152,-73.993801
END:VEVENT
BEGIN:VTIMEZONE
TZID:America/New_York
X-LIC-LOCATION:America/New_York
BEGIN:STANDARD
DTSTART:20251102T010000
TZOFFSETFROM:-0400
TZOFFSETTO:-0500
TZNAME:EST
END:STANDARD
END:VTIMEZONE
END:VCALENDAR