BEGIN:VCALENDAR
VERSION:2.0
PRODID:-//wp-events-plugin.com//7.2.3.1//EN
TZID:America/New_York
X-WR-TIMEZONE:America/New_York
BEGIN:VEVENT
UID:151849@kingstonhappenings.org
DTSTART;TZID=America/New_York:20250920T170000
DTEND;TZID=America/New_York:20250920T170000
DTSTAMP:20250922T150126Z
URL:https://kingstonhappenings.org/events/k-pop-demon-hunters-party/
SUMMARY:K-Pop Demon Hunters Party
DESCRIPTION:Step into the library\, where epic beats meet epic battles! Joi
 n us for a high-energy K-Pop Demon Hunters–inspired party that mixes mus
 ic\, dance and adventure. Come dressed as your favorite character\, partic
 ipate in trivia\, craft and trade character keychains\, enjoy ramyun and s
 odapop\, get your picture taken on our photo wall and then follow a tutori
 al to learn the hottest dance craze! This program is perfect for tweens an
 d teens who love the music\, the movie\, or BOTH!\nSpace is limited\, sign
  up is required: https://hurleylibrary.libcal.com/event/15232396
ATTACH;FMTTYPE=image/jpeg:https://kingstonhappenings.org/wp-content/upload
 s/2025/09/540064816_1194610796027140_1385159302708324635_n.jpg
CATEGORIES:@Featured,@Newsletter,Community,For kids
LOCATION:Hurley Library\, 48 Main St\, Hurley\, New York\, United States
GEO:41.9253483;-74.06352420000002
X-APPLE-STRUCTURED-LOCATION;VALUE=URI;X-ADDRESS=48 Main St\, Hurley\, New Y
 ork\, United States;X-APPLE-RADIUS=100;X-TITLE=Hurley Library:geo:41.92534
 83,-74.06352420000002
END:VEVENT
BEGIN:VTIMEZONE
TZID:America/New_York
X-LIC-LOCATION:America/New_York
BEGIN:DAYLIGHT
DTSTART:20250309T030000
TZOFFSETFROM:-0500
TZOFFSETTO:-0400
TZNAME:EDT
END:DAYLIGHT
END:VTIMEZONE
END:VCALENDAR