BEGIN:VCALENDAR
VERSION:2.0
PRODID:-//wp-events-plugin.com//7.2.3.1//EN
TZID:America/New_York
X-WR-TIMEZONE:America/New_York
BEGIN:VEVENT
UID:155361@kingstonhappenings.org
DTSTART;TZID=America/New_York:20260227T200000
DTEND;TZID=America/New_York:20260227T200000
DTSTAMP:20260223T152203Z
URL:https://kingstonhappenings.org/events/jonatha-brooke-assembly/
SUMMARY:JONATHA BROOKE @ Assembly
DESCRIPTION:Merging evocative folk\, melodic pop and an edgier roots rock s
 ensibility\, singer/songwriter/guitarist Jonatha Brooke began releasing mu
 sic in the early 1990s\, first as a member of the duo the Story and more e
 nduringly as a solo artist. After four major label releases\, she started 
 her own independent label\, Bad Dog Records in 1999\, and has since releas
 ed ten more albums - including the companion CD to her critically acclaime
 d\, one woman\, Off-Broadway musical\, My Mother Has Four Noses.\n\nJonath
 a has co-written and/or produced songs with Katy Perry\, The Courtyard Hou
 nds\, and Jessica Simpson. She's also written for four Disney films\, nume
 rous television shows\, and she composed and performed the theme song for 
 Joss Whedon's Dollhouse.\n\nJonatha teaches online and in person Master Cl
 asses in songwriting and recording. She is working on three musical projec
 ts - Quadroon\, with the late\, legendary jazz pianist/composer Joe Sample
 \; Switched with playwright Geoffrey Nauffts\; and TEMPUS with Jaclyn Back
 haus.
ATTACH;FMTTYPE=image/jpeg:https://kingstonhappenings.org/wp-content/upload
 s/2026/02/456821580_3708069129508973_5020052374056288757_n.jpg
CATEGORIES:@Featured,@Newsletter,Music,Nightlife and entertainment
LOCATION:Assembly\, 236 Wall St. 3rd Floor\, KINGSTON\, NY\, 12401\, United
  States
GEO:41.931738;-74.018648
X-APPLE-STRUCTURED-LOCATION;VALUE=URI;X-ADDRESS=236 Wall St. 3rd Floor\, KI
 NGSTON\, NY\, 12401\, United States;X-APPLE-RADIUS=100;X-TITLE=Assembly:ge
 o:41.931738,-74.018648
END:VEVENT
BEGIN:VTIMEZONE
TZID:America/New_York
X-LIC-LOCATION:America/New_York
BEGIN:STANDARD
DTSTART:20251102T010000
TZOFFSETFROM:-0400
TZOFFSETTO:-0500
TZNAME:EST
END:STANDARD
END:VTIMEZONE
END:VCALENDAR