BEGIN:VCALENDAR
VERSION:2.0
PRODID:-//wp-events-plugin.com//7.2.3.1//EN
TZID:America/New_York
X-WR-TIMEZONE:America/New_York
BEGIN:VEVENT
UID:156395@kingstonhappenings.org
DTSTART;TZID=America/New_York:20260422T183000
DTEND;TZID=America/New_York:20260422T183000
DTSTAMP:20260420T164321Z
URL:https://kingstonhappenings.org/events/join-too-lazy-boys-2/
SUMMARY:Join Too Lazy Boys
DESCRIPTION:Join Too Lazy Boys on Earth Day as they bring their own brand o
 fOriginal Home-Cooked Americana to Pearl Moon in Woodstock this Wednesday 
 at 6:30 pm. Bring your dancing shoes!
ATTACH;FMTTYPE=image/jpeg:https://kingstonhappenings.org/wp-content/upload
 s/2026/04/675190009_842637118864774_5737108775446755909_n.jpg
CATEGORIES:@Featured,@Newsletter,Music,Nightlife and entertainment
LOCATION:Pearl Moon\, 52 Mill Hill Rd. \, Woodstock\, New York\, 12498\, Un
 ited States
GEO:42.039503;-74.115618
X-APPLE-STRUCTURED-LOCATION;VALUE=URI;X-ADDRESS=52 Mill Hill Rd. \, Woodsto
 ck\, New York\, 12498\, United States;X-APPLE-RADIUS=100;X-TITLE=Pearl Moo
 n:geo:42.039503,-74.115618
END:VEVENT
BEGIN:VTIMEZONE
TZID:America/New_York
X-LIC-LOCATION:America/New_York
BEGIN:DAYLIGHT
DTSTART:20260308T030000
TZOFFSETFROM:-0500
TZOFFSETTO:-0400
TZNAME:EDT
END:DAYLIGHT
END:VTIMEZONE
END:VCALENDAR