BEGIN:VCALENDAR
VERSION:2.0
PRODID:-//wp-events-plugin.com//7.2.3.1//EN
TZID:America/New_York
X-WR-TIMEZONE:America/New_York
BEGIN:VEVENT
UID:152798@kingstonhappenings.org
DTSTART;TZID=America/New_York:20251129T190000
DTEND;TZID=America/New_York:20251129T190000
DTSTAMP:20251201T140920Z
URL:https://kingstonhappenings.org/events/john-gullos-rolling-stones-thank
 sgiving-weekend-show/
SUMMARY:John Gullo's ROLLING STONES Thanksgiving Weekend Show!
DESCRIPTION:On Saturday night of this Thanksgiving weekend the best Rolling
  Stones experience you can have without going to an actual Stones concert 
 is coming to The Colony!\nWatch JGRS Sizzle Reel!https://youtu.be/uz2Ei8UA
 PcU\nJohn Gullo's ROLLING STONES deliver the music of the world's greatest
  rock 'n' roll band with the power\, energy\, passion\, and integrity that
  it deserves! Backed by an all-star lineup\, John channels Mick in a way t
 hat is deep\, effortless\, and authentic.\nCollectively\, John's band memb
 ers have worked with such artists as: Rihanna\, Joan Jett and the Blackhea
 rts\, Enrique Iglesias\, Gregg Allman Band\, Levon Helm Band\, Little Feat
 \, Lenny Kravitz\, Toshi Reagon\, Tony Williams\, Betty Carter\, Popa Chub
 by\, Jerry Marotta\, just to name a few.\nThis show will include both hits
  and deep-cuts\, from some of the Stones best albums!..Beggars Banquet\, L
 et It Bleed\, Sticky Fingers\, Exile On Main Street\, and more!\nJohn and 
 his band of pros don’t wear wigs and costumes and pretend to be the Roll
 ing Stones. What they do is bring an endless catalog of amazing songs vivi
 dly to life with power\, skill\, feel\, and passion.\nIf you love the Roll
 ing Stones music you will not be disappointed!... You'll get what you need
 !...Pure Satisfaction!\nVisit John Gullo's ROLLING STONES on Facebook! ht
 tps://www.facebook.com/profile.php?id=61565516020951\nWith An All-Star Lin
 eup Featuring...JOHN GULLO: VocalsTONY BRUNO: GuitarADAM WIDOFF: GuitarJAY
  COLLINS: SaxophoneCHRIS PASIN: TrumpetTRAVIS SHOOK: KeyboardsKYLE ESPOSIT
 O: BassDAN HICKEY: DrumsLINDSEY SKEYE: Backing Vocals
ATTACH;FMTTYPE=image/jpeg:https://kingstonhappenings.org/wp-content/upload
 s/2025/11/565879414_1462693605656197_8294051049295243959_n-e1763997244466.
 jpg
CATEGORIES:@Featured,@Newsletter
LOCATION:Colony Woodstock NY\, 22 Rock City Rd\, Woodstock\, New York\, Uni
 ted States
GEO:42.0424924;-74.11799489999999
X-APPLE-STRUCTURED-LOCATION;VALUE=URI;X-ADDRESS=22 Rock City Rd\, Woodstock
 \, New York\, United States;X-APPLE-RADIUS=100;X-TITLE=Colony Woodstock NY
 :geo:42.0424924,-74.11799489999999
END:VEVENT
BEGIN:VTIMEZONE
TZID:America/New_York
X-LIC-LOCATION:America/New_York
BEGIN:STANDARD
DTSTART:20251102T010000
TZOFFSETFROM:-0400
TZOFFSETTO:-0500
TZNAME:EST
END:STANDARD
END:VTIMEZONE
END:VCALENDAR