BEGIN:VCALENDAR
VERSION:2.0
PRODID:-//wp-events-plugin.com//7.2.3.1//EN
TZID:America/New_York
X-WR-TIMEZONE:America/New_York
BEGIN:VEVENT
UID:152457@kingstonhappenings.org
DTSTART;TZID=America/New_York:20251101T190000
DTEND;TZID=America/New_York:20251101T190000
DTSTAMP:20251103T124611Z
URL:https://kingstonhappenings.org/events/john-burdick-stephen-clair/
SUMMARY:John Burdick /  Stephen Clair
DESCRIPTION:John Burdick is a songwriter\, multi-instrumentalist\, sideman\
 , and prolific music critic in New York’s mid-Hudson valley. For over 15
  years\, he has led the New Paltz-based stumble-pop quintet The Sweet Clem
 entines\, a unique guitar rock group augmented with vibraphone\, violin\, 
 sophisticated vocal arrangements and elements of chamber music and improvi
 sation\, all in support of a large collection of elegant and original song
 s. He will be accompanied by vocalist/violinist/multi-instrumentalist Mari
 anne Tasick and bassist Jason Sarubbi.\njohnburdick.bandcamp.com\nStephen 
 Clair is a Beacon-based singer/songwriter/bandleader/guitarist who has bee
 n a fixture on the Americana\, alt-country\, and dorky independent rock sc
 ene since his 1997 debut\, Altoona Hotel\, named for the town his grandfat
 her called home.�He's released many more albums over the years and toure
 d and done all the things\, experiencing�all the near misses of life in 
 the biz. Critics and his family love him first. Everyone else has come�a
 round in their own sweet time.�\n\nDoors 7:00 PM\, music 7:30Free/donati
 onrsvp@chromatic-studios.com
ATTACH;FMTTYPE=image/jpeg:https://kingstonhappenings.org/wp-content/upload
 s/2025/10/506490906_10162307985603961_4626341241935075998_n.jpg
CATEGORIES:@Featured,@Newsletter,Music,Nightlife and entertainment
LOCATION:Chromatic Studios\, 71 O'Neil St. \, Kingston\, NY\, 12401\, Unite
 d States
GEO:41.932209;-74.003624
X-APPLE-STRUCTURED-LOCATION;VALUE=URI;X-ADDRESS=71 O'Neil St. \, Kingston\,
  NY\, 12401\, United States;X-APPLE-RADIUS=100;X-TITLE=Chromatic Studios:g
 eo:41.932209,-74.003624
END:VEVENT
BEGIN:VTIMEZONE
TZID:America/New_York
X-LIC-LOCATION:America/New_York
BEGIN:DAYLIGHT
DTSTART:20250309T030000
TZOFFSETFROM:-0500
TZOFFSETTO:-0400
TZNAME:EDT
END:DAYLIGHT
END:VTIMEZONE
END:VCALENDAR