BEGIN:VCALENDAR
VERSION:2.0
PRODID:-//wp-events-plugin.com//7.2.3.1//EN
TZID:America/New_York
X-WR-TIMEZONE:America/New_York
BEGIN:VEVENT
UID:151463@kingstonhappenings.org
DTSTART;TZID=America/New_York:20250816T160000
DTEND;TZID=America/New_York:20250816T160000
DTSTAMP:20250812T145920Z
URL:https://kingstonhappenings.org/events/joan-osborne-sings-the-songs-of-
 bob-dylan/
SUMMARY:Joan Osborne Sings the Songs of Bob Dylan
DESCRIPTION:In 2017\, Grammy-nominated artist Joan Osborne released the cri
 tically acclaimed album\, Songs of Bob Dylan. Her artistic and soulful rei
 nterpretations of the selection of Dylan songs was an eye-opening moment i
 n an already celebrated career.\nEight years after milestone recording\, O
 sborne will release the stunning Dylanology Live on April 25th. The captiv
 ating recording finds the gifted vocalist performing in front of a live au
 dience\, with special guests Amy Helm\, Robert Randolph and Jackie Greene.
  Songs include “Spanish Harlem Incident”\, “Buckets Of Rain” “Ma
 sters Of War”\, “Tonight I’ll Be Staying Here With You” and “Hig
 h Water (For Charley Patton)”.\nThroughout her three-decade\, multi-Gram
 my nominated career\, Joan Osborne has never been an artist confined to on
 e space as she continues to seamlessly blend into any genre. Her incredibl
 e and distinctive voice always shines through her own songs\, while she ha
 s also become one of her generation’s finest interpreters. Dylanology Li
 ve is yet another testament to her artistic range.\nhttps://joanosborne.co
 m/\n\n\nVIP MEET AND GREETPerks include:\nPost-show Meet &amp\; GreetTote 
 BagExclusive VIP Laminate &amp\; LanyardVinylVoucher for t-shirt\, to be m
 ailed direct to purchaserExclusive Poster\n\n\nJoan Osborne Sings the Song
 s of Bob Dylan - In The Gardenw/Elia EmSAT Aug 16th\, 2025\nDoors 3pm | Sh
 ow 4pm\n*This show will be moved indoors in the event of inclement weather
 .\n
ATTACH;FMTTYPE=image/jpeg:https://kingstonhappenings.org/wp-content/upload
 s/2025/08/502457587_1339350571323835_5621718982581084808_n.jpg
CATEGORIES:@Featured,@Newsletter,Music,Nightlife and entertainment
LOCATION:Colony Woodstock NY\, 22 Rock City Rd\, Woodstock\, New York\, Uni
 ted States
GEO:42.0424924;-74.11799489999999
X-APPLE-STRUCTURED-LOCATION;VALUE=URI;X-ADDRESS=22 Rock City Rd\, Woodstock
 \, New York\, United States;X-APPLE-RADIUS=100;X-TITLE=Colony Woodstock NY
 :geo:42.0424924,-74.11799489999999
END:VEVENT
BEGIN:VTIMEZONE
TZID:America/New_York
X-LIC-LOCATION:America/New_York
BEGIN:DAYLIGHT
DTSTART:20250309T030000
TZOFFSETFROM:-0500
TZOFFSETTO:-0400
TZNAME:EDT
END:DAYLIGHT
END:VTIMEZONE
END:VCALENDAR