BEGIN:VCALENDAR
VERSION:2.0
PRODID:-//wp-events-plugin.com//7.2.3.1//EN
TZID:America/New_York
X-WR-TIMEZONE:America/New_York
BEGIN:VEVENT
UID:153063@kingstonhappenings.org
DTSTART;TZID=America/New_York:20251212T190000
DTEND;TZID=America/New_York:20251212T190000
DTSTAMP:20251208T204559Z
URL:https://kingstonhappenings.org/events/jim-keller-w-nextc/
SUMMARY:Jim Keller w/ NeXTC
DESCRIPTION:Four decades after he and his band\, Tommy Tutone\, topped the 
 charts with “867-5309/Jenny\,” Jim Keller continues his prolific\, lat
 e-career renaissance with End Of The World. Recorded with Adam Minkoff (Gr
 aham Nash\, Doyle Bramhall II) and co-written with Byron Isaacs (The Lumin
 eers\, Levon Helm)\, the record offers a wry\, sardonic take on modern lif
 e\, balancing sharp wit and earnest sincerity as it reckons with loss\, mo
 rtality\, resilience\, and hope. The songs are lean and intoxicating\, dri
 ven by tight\, playful arrangements\, and the performances are punchy and 
 raw\, infusing Keller’s distinctive mix of pub rock\, new wave\, and pow
 er pop with a defiant optimism that insists on finding joy and beauty\, ev
 en as the walls come tumbling down.https://www.jimkellermusic.com/
ATTACH;FMTTYPE=image/jpeg:https://kingstonhappenings.org/wp-content/upload
 s/2025/12/561365274_1457995446126013_2898956301964221555_n.jpg
CATEGORIES:@Featured,@Newsletter,Music,Nightlife and entertainment
LOCATION:Colony Woodstock NY\, 22 Rock City Rd\, Woodstock\, New York\, Uni
 ted States
GEO:42.0424924;-74.11799489999999
X-APPLE-STRUCTURED-LOCATION;VALUE=URI;X-ADDRESS=22 Rock City Rd\, Woodstock
 \, New York\, United States;X-APPLE-RADIUS=100;X-TITLE=Colony Woodstock NY
 :geo:42.0424924,-74.11799489999999
END:VEVENT
BEGIN:VTIMEZONE
TZID:America/New_York
X-LIC-LOCATION:America/New_York
BEGIN:STANDARD
DTSTART:20251102T010000
TZOFFSETFROM:-0400
TZOFFSETTO:-0500
TZNAME:EST
END:STANDARD
END:VTIMEZONE
END:VCALENDAR