BEGIN:VCALENDAR
VERSION:2.0
PRODID:-//wp-events-plugin.com//7.2.3.1//EN
TZID:America/New_York
X-WR-TIMEZONE:America/New_York
BEGIN:VEVENT
UID:153145@kingstonhappenings.org
DTSTART;TZID=America/New_York:20251220T190000
DTEND;TZID=America/New_York:20251220T190000
DTSTAMP:20251222T135232Z
URL:https://kingstonhappenings.org/events/jessica-lynn/
SUMMARY:Jessica Lynn @ UPAC
DESCRIPTION:Jessica Lynn lighting up the stage with powerhouse vocals!  A
  night filled with country charm and unforgettable energy. Music that mov
 es the soul!
ATTACH;FMTTYPE=image/jpeg:https://kingstonhappenings.org/wp-content/upload
 s/2025/12/546057616_122154036146786493_5824779795707240121_n-e176581712780
 3.jpg
CATEGORIES:@Featured,@Newsletter,Music,Nightlife and entertainment
LOCATION:Ulster Performing Arts Center (UPAC)\, 601 Broadway\, Kingston\, N
 ew York\, 12401\, United States
GEO:41.92931799999999;-74.004142
X-APPLE-STRUCTURED-LOCATION;VALUE=URI;X-ADDRESS=601 Broadway\, Kingston\, N
 ew York\, 12401\, United States;X-APPLE-RADIUS=100;X-TITLE=Ulster Performi
 ng Arts Center (UPAC):geo:41.92931799999999,-74.004142
END:VEVENT
BEGIN:VTIMEZONE
TZID:America/New_York
X-LIC-LOCATION:America/New_York
BEGIN:STANDARD
DTSTART:20251102T010000
TZOFFSETFROM:-0400
TZOFFSETTO:-0500
TZNAME:EST
END:STANDARD
END:VTIMEZONE
END:VCALENDAR