BEGIN:VCALENDAR
VERSION:2.0
PRODID:-//wp-events-plugin.com//7.2.3.1//EN
TZID:America/New_York
X-WR-TIMEZONE:America/New_York
BEGIN:VEVENT
UID:153148@kingstonhappenings.org
DTSTART;TZID=America/New_York:20251220T160000
DTEND;TZID=America/New_York:20251220T160000
DTSTAMP:20251222T135239Z
URL:https://kingstonhappenings.org/events/jazz-for-christmas-time-concert/
SUMMARY:Jazz for Christmas Time Concert
DESCRIPTION:Come enjoy a wonderful holiday tradition: the Jazz for Christma
 s Time Concert Featuring the Napoli/Shaut Sextet! Opening Act: Bridge Arts
  Lab Band\nSaturday\, December 20 at 4:00 PMat Saint James United Methodis
 t Church$15 admission\nParking lot and entrance with elevator:29 Pearl Str
 eet\, Kingston\, NY\nAccessibility: Saint James has an elevator and wheelc
 hair-accessible bathrooms. A sensory calm space\, fidget toys\, and sound-
 reducing headphones are available.
ATTACH;FMTTYPE=image/jpeg:https://kingstonhappenings.org/wp-content/upload
 s/2025/12/592081919_1308393847982890_3160563360472622996_n.jpg
CATEGORIES:@Featured,@Newsletter,Music,Nightlife and entertainment
LOCATION:St. James Methodist Church\, 35 Pearl St.\, Kingston\, NY\, 12401\
 , United States
GEO:41.9321262;-74.01715179999997
X-APPLE-STRUCTURED-LOCATION;VALUE=URI;X-ADDRESS=35 Pearl St.\, Kingston\, N
 Y\, 12401\, United States;X-APPLE-RADIUS=100;X-TITLE=St. James Methodist C
 hurch:geo:41.9321262,-74.01715179999997
END:VEVENT
BEGIN:VTIMEZONE
TZID:America/New_York
X-LIC-LOCATION:America/New_York
BEGIN:STANDARD
DTSTART:20251102T010000
TZOFFSETFROM:-0400
TZOFFSETTO:-0500
TZNAME:EST
END:STANDARD
END:VTIMEZONE
END:VCALENDAR