BEGIN:VCALENDAR
VERSION:2.0
PRODID:-//wp-events-plugin.com//7.2.3.1//EN
TZID:America/New_York
X-WR-TIMEZONE:America/New_York
BEGIN:VEVENT
UID:155811@kingstonhappenings.org
DTSTART;TZID=America/New_York:20260313T180000
DTEND;TZID=America/New_York:20260313T210000
DTSTAMP:20260309T161428Z
URL:https://kingstonhappenings.org/events/jazz-and-latin/
SUMMARY:Jazz and Latin
DESCRIPTION:If you are out and about\, come out to check out this amazing v
 enue. Great vibe\, nice setting and great musicGabriele Tranchina\, voiceJ
 oe Vincent Tranchina\, keyboard
ATTACH;FMTTYPE=image/jpeg:https://kingstonhappenings.org/wp-content/upload
 s/2026/03/643787213_1604027491396728_995685141250900478_n.jpg
CATEGORIES:@Featured,@Newsletter,Music,Nightlife and entertainment
LOCATION:HUDSON HOUSE DISTILLERY\, 1835 Route 9w\, West Park\, NY\, United 
 States
GEO:41.784639;-73.958819
X-APPLE-STRUCTURED-LOCATION;VALUE=URI;X-ADDRESS=1835 Route 9w\, West Park\,
  NY\, United States;X-APPLE-RADIUS=100;X-TITLE=HUDSON HOUSE DISTILLERY:geo
 :41.784639,-73.958819
END:VEVENT
BEGIN:VTIMEZONE
TZID:America/New_York
X-LIC-LOCATION:America/New_York
BEGIN:DAYLIGHT
DTSTART:20260308T030000
TZOFFSETFROM:-0500
TZOFFSETTO:-0400
TZNAME:EDT
END:DAYLIGHT
END:VTIMEZONE
END:VCALENDAR