BEGIN:VCALENDAR
VERSION:2.0
PRODID:-//wp-events-plugin.com//7.2.3.1//EN
TZID:America/New_York
X-WR-TIMEZONE:America/New_York
BEGIN:VEVENT
UID:156003@kingstonhappenings.org
DTSTART;TZID=America/New_York:20260328T200000
DTEND;TZID=America/New_York:20260328T200000
DTSTAMP:20260324T190522Z
URL:https://kingstonhappenings.org/events/jack-manley-w-joey-eppard-and-le
 o-lovechild/
SUMMARY:Jack Manley w/ Joey Eppard and Leo Lovechild
DESCRIPTION:After a packed\, electric headline set this past November\, Jac
 k Manley returns to the Colony—this time with more momentum\, a sharper 
 band\, and new material in rotation.\nJoined by longtime collaborator and 
 lead guitarist Billy Pearson\, drummer Noah Sonenstein\, and new bassist T
 J Byrnes\, Manley blends crowd favorites with freshly workshopped songs\, 
 delivering a focused\, high-energy set from an artist whose audience is gr
 owing fast and showing up louder each time.\nIf you were there last time\,
  you know. If you weren’t\, don’t fuck up. this is the one to catch.\n
 JACK MANLEY\nJack Manley is an indie / alternative rock artist from Kingst
 on\, NY\, known for magnetic\, emotionally raw live performances and sweet
 ly bitter songs that live between alternative + garage rock with post-punk
  elements and a dedication to introspective discovery. His work explores a
 ddiction\, masculinity\, grief\, and recovery with restraint\, intimacy\, 
 and a sharp melodic sense.\nHis debut album Where Are You Going\, Where Ha
 ve You Been? was written between pre-sobriety chaos and hard-won clarity\,
  tracing a descent and return through longing\, shame\, and cautious hope.
  Drawing from personal loss\, near-fatal overdoses\, and the quiet costs o
 f modern life\, Manley’s music balances collapse and growth with resolve
 . Providing access to his core while avoiding ego or sentimentality.\nFor 
 fans of Elliott Smith ‘s brutal intimacy\, The Strokes downtown cool\, D
 eerhunter ‘s woozy surrealism\, and MTV Unplugged In New York era Nirvan
 a.\nHis debut\, solo EP Unmeasurable Terms is out now featuring Josh Eppar
 d of (Coheed and Cambria) on drums.\n\nhttps://jack-manley.com/
ATTACH;FMTTYPE=image/jpeg:https://kingstonhappenings.org/wp-content/upload
 s/2026/03/633283415_1562091992383024_3277814206477460244_n.jpg
CATEGORIES:@Featured,@Newsletter,Music,Nightlife and entertainment
LOCATION:Colony Woodstock NY\, 22 Rock City Rd\, Woodstock\, New York\, Uni
 ted States
GEO:42.0424924;-74.11799489999999
X-APPLE-STRUCTURED-LOCATION;VALUE=URI;X-ADDRESS=22 Rock City Rd\, Woodstock
 \, New York\, United States;X-APPLE-RADIUS=100;X-TITLE=Colony Woodstock NY
 :geo:42.0424924,-74.11799489999999
END:VEVENT
BEGIN:VTIMEZONE
TZID:America/New_York
X-LIC-LOCATION:America/New_York
BEGIN:DAYLIGHT
DTSTART:20260308T030000
TZOFFSETFROM:-0500
TZOFFSETTO:-0400
TZNAME:EDT
END:DAYLIGHT
END:VTIMEZONE
END:VCALENDAR