BEGIN:VCALENDAR
VERSION:2.0
PRODID:-//wp-events-plugin.com//7.2.3.1//EN
TZID:America/New_York
X-WR-TIMEZONE:America/New_York
BEGIN:VEVENT
UID:151826@kingstonhappenings.org
DTSTART;TZID=America/New_York:20251122T140000
DTEND;TZID=America/New_York:20251122T160000
DTSTAMP:20250915T183656Z
URL:https://kingstonhappenings.org/events/italian-pottery-sip-paint-night/
SUMMARY:Italian Pottery Sip &amp\; Paint Night
DESCRIPTION:THIS SIP &amp\; PAINT EVENT IS FOR AGES 21+ ONLY!\n\nJoin us fo
 r Italian Pottery Painting Night on November 22nd from 2pm to 4pm! We will
  be painting Olive Oil Bottles &amp\; Dipping Plates! Price includes 2 pie
 ce set\, glazes\, firing\, and charcuterie. Wine available for purchase.\n
 \nNo experience required. Non-instructional session. Use a variety of glaz
 es to create your masterpiece. Item will be kiln fired and available for p
 ickup in 2 weeks.\n\nREGISTRATIONS CLOSE NOVEMBER 1ST OR WHEN SOLD OUT-WHI
 CH EVER COMES FIRST. SPACE IS LIMITED- RESERVE EARLY HERE!\n\n&nbsp\;
ATTACH;FMTTYPE=image/jpeg:https://kingstonhappenings.org/wp-content/upload
 s/2025/09/ITALIANPYOP.png
CATEGORIES:@Featured,Art,Community
LOCATION:Cornell Creative Arts Center\, 129 Cornell St. \, Kingston\, NY\, 
 12401\, United States
GEO:41.932942;-73.99999
X-APPLE-STRUCTURED-LOCATION;VALUE=URI;X-ADDRESS=129 Cornell St. \, Kingston
 \, NY\, 12401\, United States;X-APPLE-RADIUS=100;X-TITLE=Cornell Creative 
 Arts Center:geo:41.932942,-73.99999
END:VEVENT
BEGIN:VTIMEZONE
TZID:America/New_York
X-LIC-LOCATION:America/New_York
BEGIN:STANDARD
DTSTART:20251102T010000
TZOFFSETFROM:-0400
TZOFFSETTO:-0500
TZNAME:EST
END:STANDARD
END:VTIMEZONE
END:VCALENDAR