BEGIN:VCALENDAR
VERSION:2.0
PRODID:-//wp-events-plugin.com//7.2.3.1//EN
TZID:America/New_York
X-WR-TIMEZONE:America/New_York
BEGIN:VEVENT
UID:153383@kingstonhappenings.org
DTSTART;TZID=America/New_York:20260110T190000
DTEND;TZID=America/New_York:20260110T190000
DTSTAMP:20260105T203513Z
URL:https://kingstonhappenings.org/events/isabel-hagen/
SUMMARY:Isabel Hagen
DESCRIPTION:Isabel Hagen is a stand-up comedian and classically trained vio
 list. As a stand-up\, she has been featured on The Tonight Show Starring J
 immy Fallon multiple times\, and as a New Face of Comedy at the prestigiou
 s Just for Laughs festival in Montréal. Isabel started stand-up immediate
 ly after earning her bachelor’s and master’s degrees in viola performa
 nce from the Juilliard School. As a violist\, she has played in the orches
 tra of many Broadway shows\, and worked with artists such as Bjork\, Max R
 ichter\, and Steve Reich. You might be wondering if Isabel ever combines c
 omedy and viola. The answer: sometimes!
ATTACH;FMTTYPE=image/jpeg:https://kingstonhappenings.org/wp-content/upload
 s/2026/01/60bc6758-5257-4598-bf63-ab1c63f9efed.jpg
CATEGORIES:@Featured,@Newsletter,Comedy,Nightlife and entertainment
LOCATION:Assembly\, 236 Wall St. 3rd Floor\, KINGSTON\, NY\, 12401\, United
  States
GEO:41.931738;-74.018648
X-APPLE-STRUCTURED-LOCATION;VALUE=URI;X-ADDRESS=236 Wall St. 3rd Floor\, KI
 NGSTON\, NY\, 12401\, United States;X-APPLE-RADIUS=100;X-TITLE=Assembly:ge
 o:41.931738,-74.018648
END:VEVENT
BEGIN:VTIMEZONE
TZID:America/New_York
X-LIC-LOCATION:America/New_York
BEGIN:STANDARD
DTSTART:20251102T010000
TZOFFSETFROM:-0400
TZOFFSETTO:-0500
TZNAME:EST
END:STANDARD
END:VTIMEZONE
END:VCALENDAR