BEGIN:VCALENDAR
VERSION:2.0
PRODID:-//wp-events-plugin.com//7.2.3.1//EN
TZID:America/New_York
X-WR-TIMEZONE:America/New_York
BEGIN:VEVENT
UID:155025@kingstonhappenings.org
DTSTART;TZID=America/New_York:20260213T190000
DTEND;TZID=America/New_York:20260213T210000
DTSTAMP:20260128T131807Z
URL:https://kingstonhappenings.org/events/is-this-thing-on/
SUMMARY:Is This Thing On?
DESCRIPTION:Is This Thing On? is a heartfelt and humorous dramedy about lov
 e\, loss\, and rediscovery\, directed by Bradley Cooper. After nearly two 
 decades together\, Alex Novak (Will Arnett) and Tess Novak (Laura Dern) de
 cide to end their marriage amicably\, forcing them to navigate the awkward
  transition to separate lives while co-parenting their two boys. As Alex u
 nexpectedly finds a new sense of purpose on New York’s stand-up comedy s
 cene\, Tess reckons with the personal sacrifices she made for family and e
 xplores her own passions. Along the way\, old friendships and new challeng
 es test their evolving bond and ultimately make them question what love re
 ally means in midlife (with supporting performances by Bradley Cooper\, An
 dra Day\, Amy Sedaris\, Sean Hayes\, Christine Ebersole\, and Ciarán Hind
 s).
ATTACH;FMTTYPE=image/jpeg:https://kingstonhappenings.org/wp-content/upload
 s/2026/01/IS-THIS-THING-ON-sm-4.jpg
CATEGORIES:@Featured,Movies
LOCATION:Rosendale Theater\, 408 Main St\, Rosendale\, New York\, 12472\, U
 nited States
GEO:41.8441401;-74.0821133
X-APPLE-STRUCTURED-LOCATION;VALUE=URI;X-ADDRESS=408 Main St\, Rosendale\, N
 ew York\, 12472\, United States;X-APPLE-RADIUS=100;X-TITLE=Rosendale Theat
 er:geo:41.8441401,-74.0821133
END:VEVENT
BEGIN:VTIMEZONE
TZID:America/New_York
X-LIC-LOCATION:America/New_York
BEGIN:STANDARD
DTSTART:20251102T010000
TZOFFSETFROM:-0400
TZOFFSETTO:-0500
TZNAME:EST
END:STANDARD
END:VTIMEZONE
END:VCALENDAR