BEGIN:VCALENDAR
VERSION:2.0
PRODID:-//wp-events-plugin.com//7.2.3.1//EN
TZID:America/New_York
X-WR-TIMEZONE:America/New_York
BEGIN:VEVENT
UID:153179@kingstonhappenings.org
DTSTART;TZID=America/New_York:20260127T160000
DTEND;TZID=America/New_York:20260127T173000
DTSTAMP:20260127T131233Z
URL:https://kingstonhappenings.org/events/intro-to-sculpture-for-middle-sc
 hool-2026-01-27/
SUMMARY:Intro to Sculpture for Middle School
DESCRIPTION:6 Tuesdays\n\nJan 6\, 13\, 20\, 27\, Feb 3\, 10\, 2026 (snowda
 ys Feb 17)\n\nPrice:$250\n\nIn this hands-on class\, students will explore
  the fundamentals of working in three dimensions. Using accessible\, recyc
 led materials such as paper\, cardboard\, and wire\, students will learn t
 o build forms\, think in space\, and bring their ideas into the physical w
 orld. We’ll experiment with form\, color\, line\, and structure while in
 troducing core concepts of sculpture and 3D design.\n\nThis class encourag
 es creative problem-solving\, playful construction\, and personal expressi
 on. No experience required—just curiosity and imagination!\nAges 10 - 14
 \nJan 6\, 13\, 20\, 27\, Feb 3\, 10\, 2026 (snowday make-up\, Feb 17)\nLi
 mit 8 students\n-----------------------------------------\n\nPlease regist
 er at least a week in advance to guarantee your spot. Full Scholarship ava
 ilability closes 2 weeks prior to the start of class.\n\n-----------------
 ------------------------\n\nWe believe in access to art education for all.
  It takes the whole community to generate the equity our pay-what-you-can 
 tuition generates. Behind the scenes\, we work to bridge the financial gap
  between what our students can pay and what we need to sustain our program
 s. Please consider carefully before you use our discount codes.\n\nScholar
 ship Codes:\nFor 25% discount use code "25OFF\n\nFor 50% discount use code
  "50OFF"\n\nFor75% discount use code "75OFF"\n\nThis economic justice map 
 from The Sliding Scale: A Tool of Economic Justice by Alexis J. Cunningfo
 lk is useful to assess where you may fall on the financial spectrum of pa
 y what you can.\n\nTo request 100% off tuition\, please contact chris@mka
 d.art
ATTACH;FMTTYPE=image/jpeg:https://kingstonhappenings.org/wp-content/upload
 s/2025/12/Intro-to-Sculpture-for-Middle-School.jpeg
CATEGORIES:@Featured,@Newsletter,Educational classes and lectures,For kids
LOCATION:Midtown Kingston Arts District and the D.R.A.W.\, 20 Cedar Street\
 , Kingston\, NY\, 12401\, United States
GEO:41.928545;-74.004206
X-APPLE-STRUCTURED-LOCATION;VALUE=URI;X-ADDRESS=20 Cedar Street\, Kingston\
 , NY\, 12401\, United States;X-APPLE-RADIUS=100;X-TITLE=Midtown Kingston A
 rts District and the D.R.A.W.:geo:41.928545,-74.004206
END:VEVENT
BEGIN:VTIMEZONE
TZID:America/New_York
X-LIC-LOCATION:America/New_York
BEGIN:STANDARD
DTSTART:20251102T010000
TZOFFSETFROM:-0400
TZOFFSETTO:-0500
TZNAME:EST
END:STANDARD
END:VTIMEZONE
END:VCALENDAR