BEGIN:VCALENDAR
VERSION:2.0
PRODID:-//wp-events-plugin.com//7.2.3.1//EN
TZID:America/New_York
X-WR-TIMEZONE:America/New_York
BEGIN:VEVENT
UID:150466@kingstonhappenings.org
DTSTART;TZID=America/New_York:20251014T170000
DTEND;TZID=America/New_York:20251014T193000
DTSTAMP:20251013T172026Z
URL:https://kingstonhappenings.org/events/intro-to-intaglio-nps-2025-10-14
 -2/
SUMMARY:Intro to Intaglio (NPS)
DESCRIPTION:4 Tuesdays\nOctober 14\, 21\, 28\, November 4 (snow day Nov 11)
 \n5- 7:30 pm\n\nAges 16+\n\nSince the late fifteenth century\, artists and
  craftspeople have been etching metal plates using corrosive solutions. Jo
 in Ezra Heller to introduce you to this historical method of developing re
 producible fine line images on paper.\n\nIn this 4-week course students wi
 ll learn about an intaglio etching process using BIG ground. Students will
  have an in-depth overview of hardground etching methods. Hardground is a 
 method within intaglio to achieve detailed marks to be printed. Ezra will 
 guide students through preparing their plates\, applying and curing their 
 BIG ground\, mark making\, and printing their copper plates. This class is
  open to all levels of experience!\n\nAll materials provided.\n\n---------
 ----------------\n\nPlease register at least a week in advance to guarante
 e your spot. Scholarship availability closes 2 weeks prior to the start of
  class.\n\n-----------------------------------------\n\nWe believe in acce
 ss to art education for all. It takes the whole community to generate the 
 equity our pay-what-you-can tuition generates. Behind the scenes\, we work
  to bridge the financial gap between what our students can pay and what we
  need to sustain our programs. Please consider carefully before you use ou
 r discount codes.\n\nScholarship Codes:\nFor 25% discount use code "25OFF"
 \nFor 50% discount use code "50OFF"\nFor 75% discount use code "75OFF"\n\n
 This economic justice map from The Sliding Scale: A Tool of Economic Just
 ice by Alexis J. Cunningfolk is useful to assess where you may fall on th
 e financial spectrum of pay what you can.\n\nTo request 100% off tuition\,
  please contact chris@mkad.art
CATEGORIES:@Featured,@Newsletter,Art,Educational classes and lectures
LOCATION:Neighborhood Print Studio\, 49 Greenkill Avenue\, Kingston\, NY\, 
 12401\, United Kingdom
GEO:41.927819;-74.004441
X-APPLE-STRUCTURED-LOCATION;VALUE=URI;X-ADDRESS=49 Greenkill Avenue\, Kings
 ton\, NY\, 12401\, United Kingdom;X-APPLE-RADIUS=100;X-TITLE=Neighborhood 
 Print Studio:geo:41.927819,-74.004441
END:VEVENT
BEGIN:VTIMEZONE
TZID:America/New_York
X-LIC-LOCATION:America/New_York
BEGIN:DAYLIGHT
DTSTART:20250309T030000
TZOFFSETFROM:-0500
TZOFFSETTO:-0400
TZNAME:EDT
END:DAYLIGHT
END:VTIMEZONE
END:VCALENDAR