BEGIN:VCALENDAR
VERSION:2.0
PRODID:-//wp-events-plugin.com//7.2.3.1//EN
TZID:America/New_York
X-WR-TIMEZONE:America/New_York
BEGIN:VEVENT
UID:153255@kingstonhappenings.org
DTSTART;TZID=America/New_York:20260108T180000
DTEND;TZID=America/New_York:20260115T210000
DTSTAMP:20251223T191033Z
URL:https://kingstonhappenings.org/events/intro-to-cyanotypes-nps/
SUMMARY:Intro to Cyanotypes (NPS)
DESCRIPTION:2 Thursdays\nJanuary 8 &amp\; 15 (Snow Day:Jan 29th)\n6 - 8:30 
 pm\n\nAges 16+\n\nJoin us for this intro class to experience the magic tha
 t is cyanotype printmaking! Cyanotypes are a form of printmaking that invo
 lves laying down an object or transparency on paper or fabric that is coat
 ed with light sensitive iron salt salt solution\, that when exposed to UV 
 light will reveal stunning deep prussian blue and white images! This print
 making process is great for beginners.\n\nAll materials included.\n\n-----
 ------------------------------------\n\nPlease register at least a week in
  advance to guarantee your spot. Scholarship availability closes 2 weeks p
 rior to the start of class.\n\n-----------------------------------------\n
 \nWe believe in access to art education for all. It takes the whole commun
 ity to generate the equity our pay-what-you-can tuition generates. Behind 
 the scenes\, we work to bridge the financial gap between what our students
  can pay and what we need to sustain our programs. Please consider careful
 ly before you use our discount codes.\n\nScholarship Codes:\nFor 25% disco
 unt use code "25OFF"\nFor 50% discount use code "50OFF"\nFor 75% discount 
 use code "75OFF"\n\nThis economic justice map from The Sliding Scale: A T
 ool of Economic Justice by Alexis J. Cunningfolk is useful to assess wher
 e you may fall on the financial spectrum of pay what you can.\n\nTo reques
 t 100% off tuition\, or payment plan options\, please contact chris@mkad.
 art
ATTACH;FMTTYPE=image/jpeg:https://kingstonhappenings.org/wp-content/upload
 s/2025/12/Intro-to-Cyanotypes-NPS.jpeg
CATEGORIES:Art,Educational classes and lectures
LOCATION:Neighborhood Print Studio\, 49 Greenkill Avenue\, Kingston\, NY\, 
 12401\, United Kingdom
GEO:41.927819;-74.004441
X-APPLE-STRUCTURED-LOCATION;VALUE=URI;X-ADDRESS=49 Greenkill Avenue\, Kings
 ton\, NY\, 12401\, United Kingdom;X-APPLE-RADIUS=100;X-TITLE=Neighborhood 
 Print Studio:geo:41.927819,-74.004441
END:VEVENT
BEGIN:VTIMEZONE
TZID:America/New_York
X-LIC-LOCATION:America/New_York
BEGIN:STANDARD
DTSTART:20251102T010000
TZOFFSETFROM:-0400
TZOFFSETTO:-0500
TZNAME:EST
END:STANDARD
END:VTIMEZONE
END:VCALENDAR