BEGIN:VCALENDAR
VERSION:2.0
PRODID:-//wp-events-plugin.com//7.2.3.1//EN
TZID:America/New_York
X-WR-TIMEZONE:America/New_York
BEGIN:VEVENT
UID:155775@kingstonhappenings.org
DTSTART;TZID=America/New_York:20260415T153000
DTEND;TZID=America/New_York:20260506T164500
DTSTAMP:20260413T113933Z
URL:https://kingstonhappenings.org/events/infant-developmental-movement-cl
 asses/
SUMMARY:Infant Developmental Movement Classes
DESCRIPTION:This 4-week series offers a supportive space for caregivers to 
 slow down and observe the miraculous unfolding of their baby’s developme
 nt. Drawing on the principles of Body-Mind Centering® and Occupational Th
 erapy\, we will look closely at the movement patterns and small skills tha
 t make up baby’s developmental “milestones” and the neurological fou
 ndations that support lifelong growth.\nThrough gentle touch and guided pl
 ay\, we will explore how infants begin to perceive and move into their wor
 ld. Parents learn practical handling tools to help your baby navigate comm
 on early challenges—from improving digestion and sleep to finding ease i
 n tummy time—and to support optimal movement progression. Emily meets ea
 ch child’s developmental moment and natural curiosity in hands-on facili
 tation\, within a playful environment where both baby and grown-up can bon
 d and thrive.\n\nFacilitated by Emily Feit\n\nProgram Costs (Sliding Scale
 )\n\n4 week series: $80-$160\n\n 	$160 – Supporter Rate: (Covers your sp
 ot and contributes to our scholarship fund)\n 	$120 – Sustainer Rate: (S
 tandard cost for the 4-week series)\n 	$80 – Community Rate: (Discounted
  for those with limited financial flexibility)\n\nDrop in rate: $25-$45 pe
 r class\n\n2 free spots for BIPOC folx
ATTACH;FMTTYPE=image/jpeg:https://kingstonhappenings.org/wp-content/upload
 s/2026/03/E.Feit_SupportingImage_Series2_2of3-768x512-1.jpg
CATEGORIES:@Featured,For kids
LOCATION:WildHeart: Center for Performance and Embodiment Practice\, 183 Ea
 st Road\, Wallkill\, NY\, 12589\, United States
GEO:41.588939;-74.05362
X-APPLE-STRUCTURED-LOCATION;VALUE=URI;X-ADDRESS=183 East Road\, Wallkill\, 
 NY\, 12589\, United States;X-APPLE-RADIUS=100;X-TITLE=WildHeart: Center fo
 r Performance and Embodiment Practice:geo:41.588939,-74.05362
END:VEVENT
BEGIN:VTIMEZONE
TZID:America/New_York
X-LIC-LOCATION:America/New_York
BEGIN:DAYLIGHT
DTSTART:20260308T030000
TZOFFSETFROM:-0500
TZOFFSETTO:-0400
TZNAME:EDT
END:DAYLIGHT
END:VTIMEZONE
END:VCALENDAR