BEGIN:VCALENDAR
VERSION:2.0
PRODID:-//wp-events-plugin.com//7.2.3.1//EN
TZID:America/New_York
X-WR-TIMEZONE:America/New_York
BEGIN:VEVENT
UID:152134@kingstonhappenings.org
DTSTART;TZID=America/New_York:20251006T183000
DTEND;TZID=America/New_York:20251229T203000
DTSTAMP:20251222T170952Z
URL:https://kingstonhappenings.org/events/industry-jukebox-mondays/
SUMMARY:Industry Jukebox Monday's
DESCRIPTION:Industry Jukebox Mondays at Kinsley \nStarting Monday\, October
  6th | 6:30–8:30PMAll are welcome -- but we’re shining a spotlight on 
 the incredible teams behind Kingston’s restaurants\, hotels\, bars &amp\
 ; more. What to expect:\nLive “human jukebox” magic from local star P
 aul Leschen. Bring your song requests!\nHappy Hour extended all night\, 10
 % off all apps + sides\, &amp\; more!\n\n\n Bring your crew to enjoy pitc
 hers &amp\; bottles at a steal\n\n\nMark your calendars: Industry Jukebox 
 Mondays --  one Monday each month at Hotel Kinsley to kick back the way K
 ingston’s hospitality family deserves.
ATTACH;FMTTYPE=image/jpeg:https://kingstonhappenings.org/wp-content/upload
 s/2025/10/INDUSTRY-MONDAYS-1.png
CATEGORIES:@Featured,@Newsletter,Community,Happy Hours,Music
LOCATION:Hotel Kinsley Restaurant\, 301 Wall St\, \, Kingston\, NY\, 12401\
 , United States
GEO:41.933888;-74.020028
X-APPLE-STRUCTURED-LOCATION;VALUE=URI;X-ADDRESS=301 Wall St\, \, Kingston\,
  NY\, 12401\, United States;X-APPLE-RADIUS=100;X-TITLE=Hotel Kinsley Resta
 urant:geo:41.933888,-74.020028
END:VEVENT
BEGIN:VTIMEZONE
TZID:America/New_York
X-LIC-LOCATION:America/New_York
BEGIN:DAYLIGHT
DTSTART:20250309T030000
TZOFFSETFROM:-0500
TZOFFSETTO:-0400
TZNAME:EDT
END:DAYLIGHT
BEGIN:STANDARD
DTSTART:20251102T010000
TZOFFSETFROM:-0400
TZOFFSETTO:-0500
TZNAME:EST
END:STANDARD
END:VTIMEZONE
END:VCALENDAR