BEGIN:VCALENDAR
VERSION:2.0
PRODID:-//wp-events-plugin.com//7.2.3.1//EN
TZID:America/New_York
X-WR-TIMEZONE:America/New_York
BEGIN:VEVENT
UID:155369@kingstonhappenings.org
DTSTART;TZID=America/New_York:20260313T100000
DTEND;TZID=America/New_York:20260314T140000
DTSTAMP:20260217T160744Z
URL:https://kingstonhappenings.org/events/in-my-room-rethinking-the-photog
 raphic-self-portrait/
SUMMARY:In My Room: Rethinking the Photographic Self-Portrait
DESCRIPTION:In this workshop SHALA MILLER will lead participants in looki
 ng at the practice of self-portraiture as if it is a room. A space. A cont
 ainer. What are the makings of it? What can be made of it? What does it ho
 ld outside of our physical body? What can it hold outside of our physica
 l body and furthermore what can be imaged of it?\n\nAs a group\, participa
 nts will discuss how self portraiture can be used as a tool in self-study\
 , helping us to find grounding in ourselves and the world around us. In th
 is hands-on workshop\, participants will create new self portraits that em
 brace experimentation through sculpture\, performance\, and mixed media.\n
 \nWHAT TO BRING: Digital camera\, memory card\, hard drive\, and any coll
 age materials (i.e. prints\, magazine clippings\, paper\, archival images)
  that you may wish to incorporate. We will also provide materials to play 
 with.\n\nFRIDAY\, MARCH 13: 10-5pm\nSATURDAY\, MARCH 14: 10-5pm\n\nWHERE
 : 25 Dederick Street\, Kingston\, NY\n\nMAXIMUM ENROLLMENT: 14\n\nTUITION
 : $450\nCPW MEMBERS: $400\n\nhttps://cpw.org/in-my-room-rethinking-the-p
 hotographic-self-portrait/
CATEGORIES:Art,Community,Educational classes and lectures
LOCATION:Center for Photography at Woodstock(CPW)\, 25 Dederick St. \, King
 ston\, NY\, 12401\, United States
GEO:41.92761;-73.998774
X-APPLE-STRUCTURED-LOCATION;VALUE=URI;X-ADDRESS=25 Dederick St. \, Kingston
 \, NY\, 12401\, United States;X-APPLE-RADIUS=100;X-TITLE=Center for Photog
 raphy at Woodstock(CPW):geo:41.92761,-73.998774
END:VEVENT
BEGIN:VTIMEZONE
TZID:America/New_York
X-LIC-LOCATION:America/New_York
BEGIN:DAYLIGHT
DTSTART:20260308T030000
TZOFFSETFROM:-0500
TZOFFSETTO:-0400
TZNAME:EDT
END:DAYLIGHT
END:VTIMEZONE
END:VCALENDAR