BEGIN:VCALENDAR
VERSION:2.0
PRODID:-//wp-events-plugin.com//7.2.3.1//EN
TZID:America/New_York
X-WR-TIMEZONE:America/New_York
BEGIN:VEVENT
UID:152637@kingstonhappenings.org
DTSTART;TZID=America/New_York:20251115T190000
DTEND;TZID=America/New_York:20251115T190000
DTSTAMP:20251110T222143Z
URL:https://kingstonhappenings.org/events/im-your-man-a-tribute-to-leonard
 -cohen/
SUMMARY:I'm Your Man: A Tribute to Leonard Cohen
DESCRIPTION:Robert Burke Warren's beloved I'm Your Man: A Tribute to Leonar
 d Cohen returns to the historic Colony. This intimate evening spans Cohen
 ’s entire career\, from 60s classics like “Bird on the Wire” and “
 Suzanne\,” to latter-day epics like “Everybody Knows\,” “First We 
 Take Manhattan\,” and the little song that could\, “Hallelujah.”\n\n
 \nThe band includes harpist/keyboardist Elizabeth Clark (Mamalama) drummer
  Peter Newell (the Trapps)\, bassist Mark Lerner (Life in a Blender\, Rosi
 ne)\, and guitarist Peter Dougan (Gene Ween\, Carl Mateo). Special guests 
 include Rachel Loshak\, Nancy Howell\, and some surprises.\n\n\nhttps://ww
 w.robertburkewarren.com/
ATTACH;FMTTYPE=image/jpeg:https://kingstonhappenings.org/wp-content/upload
 s/2025/11/555976747_1443515827573975_6266661896066866351_n.jpg
CATEGORIES:@Featured,@Newsletter,Music,Nightlife and entertainment
LOCATION:Colony Woodstock NY\, 22 Rock City Rd\, Woodstock\, New York\, Uni
 ted States
GEO:42.0424924;-74.11799489999999
X-APPLE-STRUCTURED-LOCATION;VALUE=URI;X-ADDRESS=22 Rock City Rd\, Woodstock
 \, New York\, United States;X-APPLE-RADIUS=100;X-TITLE=Colony Woodstock NY
 :geo:42.0424924,-74.11799489999999
END:VEVENT
BEGIN:VTIMEZONE
TZID:America/New_York
X-LIC-LOCATION:America/New_York
BEGIN:STANDARD
DTSTART:20251102T010000
TZOFFSETFROM:-0400
TZOFFSETTO:-0500
TZNAME:EST
END:STANDARD
END:VTIMEZONE
END:VCALENDAR