BEGIN:VCALENDAR
VERSION:2.0
PRODID:-//wp-events-plugin.com//7.2.3.1//EN
TZID:America/New_York
X-WR-TIMEZONE:America/New_York
BEGIN:VEVENT
UID:152164@kingstonhappenings.org
DTSTART;TZID=America/New_York:20251011T190000
DTEND;TZID=America/New_York:20251011T190000
DTSTAMP:20251007T130841Z
URL:https://kingstonhappenings.org/events/i-get-wild-plays-talking-heads/
SUMMARY:I Get Wild plays Talking Heads
DESCRIPTION:I Get Wild plays Talking Heads\nw/ special guest Thank God For 
 Science\nSAT Oct 11th\nDoors 6pm | Show 7pm\nI GET WILD I Get Wild played 
 its first show in 2016\, forming as all cool bands do - without any though
 t of the future.I Get Wild is a Brooklyn-based ensemble that honors the le
 gacy of Talking Heads. With their renditions of iconic New Wave anthems\, 
 they channel the essence of the original songs while infusing their own ch
 aracter and style. As one of the premier tribute bands in Brooklyn\, I Get
  Wild's performances are a testament to their love and appreciation of Tal
 king Heads music. Whether you're a die-hard fan or just looking for a fres
 h take on classic tunes\, I Get Wild's electrifying live shows are guarant
 eed to be an unforgettable experience. Check them out and see for yourself
  why they are known for their wild\, energetic performances.I Get Wild is:
 • Annie Nero - bass\, vocals• Ray Rizzo - drums\, vocals\, guitar• J
 eremy Haines - vocals• Stephanie Sanders - keys\, vocals• Michael Phil
 lips - guitar• Conrad Doucette - percussion\, drums• Michael Arthur - 
 live drawing\, vocals\nhttps://igetwild.band/\nTHANK GOD FOR SCIENCE\nThan
 k God For Science is a one of a kind musical medium that explores sonic an
 d musical vocabularies.Jeremy Moses Curtis (Booker T\, Jeffrey Foucault) c
 ompiled years of home studio demos and with the help of some trusted music
 ians\, shaped them into an instrumental record titled: "Volume One". The c
 ore studio band of drummer Peter MacLean (Maceo Parker)\, The Blue Ribbons
 ' James Rohr on keyboards / Mike Castellana on guitar\, recorded the initi
 al basics over a weekend with the help of producer Marc Pinansky. In the f
 ollowing months\, Laurence Scudder (Brothers McCann) added his refined ble
 nd of natural and effected Viola while Barry Rothman (Radio Swan) channele
 d sounds from the ether via vintage turntables and effect pedals to round 
 out a recording whose unique aural atmosphere is wholly its own. Since the
 n\, the players have performed dozens of shows\, released "Live"\, “Huma
 ns Are Special” and coalesced into what is now known as Thank God For Sc
 ience: a group that continues to search for harmony\, chaos\, enlightenmen
 t\, and every note in between.\nhttps://www.thankgodforscience.com/
ATTACH;FMTTYPE=image/jpeg:https://kingstonhappenings.org/wp-content/upload
 s/2025/10/544573959_1421415629783995_1558307285751512059_n.jpg
CATEGORIES:@Featured,@Newsletter,Music,Nightlife and entertainment
LOCATION:Colony Woodstock NY\, 22 Rock City Rd\, Woodstock\, New York\, Uni
 ted States
GEO:42.0424924;-74.11799489999999
X-APPLE-STRUCTURED-LOCATION;VALUE=URI;X-ADDRESS=22 Rock City Rd\, Woodstock
 \, New York\, United States;X-APPLE-RADIUS=100;X-TITLE=Colony Woodstock NY
 :geo:42.0424924,-74.11799489999999
END:VEVENT
BEGIN:VTIMEZONE
TZID:America/New_York
X-LIC-LOCATION:America/New_York
BEGIN:DAYLIGHT
DTSTART:20250309T030000
TZOFFSETFROM:-0500
TZOFFSETTO:-0400
TZNAME:EDT
END:DAYLIGHT
END:VTIMEZONE
END:VCALENDAR