BEGIN:VCALENDAR
VERSION:2.0
PRODID:-//wp-events-plugin.com//7.2.3.1//EN
TZID:America/New_York
X-WR-TIMEZONE:America/New_York
BEGIN:VEVENT
UID:152045@kingstonhappenings.org
DTSTART;TZID=America/New_York:20251018T190000
DTEND;TZID=America/New_York:20251018T230000
DTSTAMP:20251013T172049Z
URL:https://kingstonhappenings.org/events/hush-woods-a-whole-nother-tubbys
 /
SUMMARY:Hush Woods & A Whole Nother @ Tubby's
DESCRIPTION:A night of indie rock at Tubby's from Kingston local bands:\n\n
 A Whole Nother\n\nA Whole Nother is a 6-piece indie-psych rock band based 
 out of Kingston\, NY. The band is composed of members from various Hudson 
 Valley music projects. Their influences include Modest Mouse\, Broken Soci
 al Scene\, King Gizzard &amp\; the Lizard Wizard\, and TOPS. The band form
 ed in late 2024 as guitarists  and Andrew Blot concluded their former ba
 nd Grampfather and sought to create a new project with bassist Joe Connoll
 y (of SKRIB)\, drummer  (of Hush Woods)\, keyboardist Tom Brady (of Foam
  Cosmonaut)\, and lead singer Lily Moskwa\, a classically trained opera si
 nger shifting into the realm of indie rock. Driven by the love of and devo
 tion to songwriting\, each member's strengths are complemented by one anot
 her in collaboration\, creating a unique sound all their own.\n\nHush Wood
 s\n\nFormed from members of Kingston\, NY’s The Pleasers\, Hush Woods ca
 refully crafts lush\, dreamy indie rock.\n\n&nbsp\;\n\nTickets
ATTACH;FMTTYPE=image/jpeg:https://kingstonhappenings.org/wp-content/upload
 s/2025/09/22864164.jpg
CATEGORIES:@Featured,@Newsletter,Music,Nightlife and entertainment
LOCATION:Tubby’s\, 586 Broadway\, Kingston\, New York\, 12401\, United St
 ates
GEO:41.929437;-74.00364
X-APPLE-STRUCTURED-LOCATION;VALUE=URI;X-ADDRESS=586 Broadway\, Kingston\, N
 ew York\, 12401\, United States;X-APPLE-RADIUS=100;X-TITLE=Tubby’s:geo:4
 1.929437,-74.00364
END:VEVENT
BEGIN:VTIMEZONE
TZID:America/New_York
X-LIC-LOCATION:America/New_York
BEGIN:DAYLIGHT
DTSTART:20250309T030000
TZOFFSETFROM:-0500
TZOFFSETTO:-0400
TZNAME:EDT
END:DAYLIGHT
END:VTIMEZONE
END:VCALENDAR