BEGIN:VCALENDAR
VERSION:2.0
PRODID:-//wp-events-plugin.com//7.2.3.1//EN
TZID:America/New_York
X-WR-TIMEZONE:America/New_York
BEGIN:VEVENT
UID:156390@kingstonhappenings.org
DTSTART;TZID=America/New_York;VALUE=DATE:20260424
DTEND;TZID=America/New_York;VALUE=DATE:20260427
DTSTAMP:20260420T164324Z
URL:https://kingstonhappenings.org/events/hudson-valley-tango-festival-8th
 -edition/
SUMMARY:Hudson Valley Tango Festival 8th edition
DESCRIPTION: Early Bird Registration is OPEN!\nwe remind you that FULL PAS
 SES are limited.\nTANGO STARS Celina Rotundo &amp\; Hugo PatynJunior Cerv
 ilaMaia Martinez &amp\; David Salvatierra\nTANGO DJ’s Omar LagosRainier
  PereiraJavier Sanchez\nLIVE MUSIC Pedro Giraudo Tango Quartet\nGet your 
 ticket Tell your friends.Join the fun! \nThe Hudson Valley Tango Festiva
 l 8th edition is schedule for April 24 to the 26th 2026.Let’s get Tango 
 ready !!Meanwhile\, can you guess who will be our Tango Stars? Sneak peak
 …. \n\n HOTEL  discounted rate for HV Tango GuestUse link below htt
 ps://www.bestwestern.com/.../hotel-rooms.33159.html...\nRegister to the Fe
 st with the link below \nhttps://form.jotform.com/253493574438670\n#hudso
 nvalley #hudsonvalleytango #hudsONtangofestival#kingston #kingstonny
ATTACH;FMTTYPE=image/jpeg:https://kingstonhappenings.org/wp-content/upload
 s/2026/04/601324555_1493159322810726_2134266277474567730_n.jpg
CATEGORIES:@Featured,@Newsletter,Music,Nightlife and entertainment
LOCATION:Senate Garage\, 4 North Front St.\, KINGSTON\, NY\, 12401\, United
  States
GEO:41.935258;-74.018948
X-APPLE-STRUCTURED-LOCATION;VALUE=URI;X-ADDRESS=4 North Front St.\, KINGSTO
 N\, NY\, 12401\, United States;X-APPLE-RADIUS=100;X-TITLE=Senate Garage:ge
 o:41.935258,-74.018948
END:VEVENT
BEGIN:VTIMEZONE
TZID:America/New_York
X-LIC-LOCATION:America/New_York
BEGIN:DAYLIGHT
DTSTART:20260308T030000
TZOFFSETFROM:-0500
TZOFFSETTO:-0400
TZNAME:EDT
END:DAYLIGHT
END:VTIMEZONE
END:VCALENDAR