BEGIN:VCALENDAR
VERSION:2.0
PRODID:-//wp-events-plugin.com//7.2.3.1//EN
TZID:America/New_York
X-WR-TIMEZONE:America/New_York
BEGIN:VEVENT
UID:155354@kingstonhappenings.org
DTSTART;TZID=America/New_York:20260218T180000
DTEND;TZID=America/New_York:20260218T180000
DTSTAMP:20260216T133016Z
URL:https://kingstonhappenings.org/events/hudson-valley-jazz-jam/
SUMMARY:Hudson Valley Jazz Jam
DESCRIPTION:Led by local drummer Bryan Kopchak\, Hudson Valley Jazz Jam has
  been called "the best jam in the Hudson Valley". After nearly 3 years of 
 success at it's primary location at Quinn's in Beacon\, NY\, the jam has b
 ecome a hub for local legends\, up-and-coming players and aspiring student
 s alike.\nRecognizing the competitive nature of some New York City jazz se
 ssions\, Bryan aspires to maintain a welcoming atmosphere for all players\
 , while simultaneously raising the bar towards a level of musicianship tha
 t inspires not only the musicians\, but the audience as well.\nThe mission
  is simple: Unite musicians across the Hudson Valley into a communal prese
 nce\, to represent an expansive culture of music\, art and expression that
  is accessible to various communities. To also serve as an educational hub
  for musicians of all calibers and most importantly\, foster a learning en
 vironment for young students.
ATTACH;FMTTYPE=image/jpeg:https://kingstonhappenings.org/wp-content/upload
 s/2026/02/615079427_1294806889348247_2529945961430974323_n.jpg
CATEGORIES:@Featured,@Newsletter,Dance,Nightlife and entertainment
LOCATION:The Falcon\, 1348 Route 9W\, Marlboro\, NY\, United States
GEO:41.6061213;-73.97065420000001
X-APPLE-STRUCTURED-LOCATION;VALUE=URI;X-ADDRESS=1348 Route 9W\, Marlboro\, 
 NY\, United States;X-APPLE-RADIUS=100;X-TITLE=The Falcon:geo:41.6061213,-7
 3.97065420000001
END:VEVENT
BEGIN:VTIMEZONE
TZID:America/New_York
X-LIC-LOCATION:America/New_York
BEGIN:STANDARD
DTSTART:20251102T010000
TZOFFSETFROM:-0400
TZOFFSETTO:-0500
TZNAME:EST
END:STANDARD
END:VTIMEZONE
END:VCALENDAR