BEGIN:VCALENDAR
VERSION:2.0
PRODID:-//wp-events-plugin.com//7.2.3.1//EN
TZID:America/New_York
X-WR-TIMEZONE:America/New_York
BEGIN:VEVENT
UID:153141@kingstonhappenings.org
DTSTART;TZID=America/New_York:20251219T180000
DTEND;TZID=America/New_York:20251219T200000
DTSTAMP:20251216T143815Z
URL:https://kingstonhappenings.org/events/hudson-valley-gay-soccer/
SUMMARY:Hudson Valley Gay Soccer
DESCRIPTION:We’re hosting a fundraiser for @hvgaysoccer\, as they seek a 
 warm indoor location for their pickup games\n&#x26bd\;&#xfe0f\; &#x1f308\;
  &#x2744\;&#xfe0f\;\n\nHudson Valley Gay Soccer is a free\, recreational\,
  inclusive space for individuals of all genders\, abilities\, and backgrou
 nds to foster connection through community and body movement.\n\nWe’ll h
 ave a raffle for gift cards from a ton of great local businesses\, music f
 rom DJ Grand Format\, and general Holiday merrymaking &#x1f942\;\n\nRough 
 Draft will be donating a portion of the evening’s sales to support\, as 
 well.\n\nCome have a good time and support a great local group!!
ATTACH;FMTTYPE=image/jpeg:https://kingstonhappenings.org/wp-content/upload
 s/2025/12/FireShot-Capture-062-Instagram-www.instagram.com_.png
CATEGORIES:@Featured,@Newsletter,Community,Music,Nightlife and
 entertainment
LOCATION:Rough Draft Bar & Books\, 82 John Street\, Kingston \, New York\, 
 12401\, United States
GEO:41.9334999;-74.02122020000002
X-APPLE-STRUCTURED-LOCATION;VALUE=URI;X-ADDRESS=82 John Street\, Kingston \
 , New York\, 12401\, United States;X-APPLE-RADIUS=100;X-TITLE=Rough Draft 
 Bar & Books:geo:41.9334999,-74.02122020000002
END:VEVENT
BEGIN:VTIMEZONE
TZID:America/New_York
X-LIC-LOCATION:America/New_York
BEGIN:STANDARD
DTSTART:20251102T010000
TZOFFSETFROM:-0400
TZOFFSETTO:-0500
TZNAME:EST
END:STANDARD
END:VTIMEZONE
END:VCALENDAR