BEGIN:VCALENDAR
VERSION:2.0
PRODID:-//wp-events-plugin.com//7.2.3.1//EN
TZID:America/New_York
X-WR-TIMEZONE:America/New_York
BEGIN:VEVENT
UID:151738@kingstonhappenings.org
DTSTART;TZID=America/New_York;VALUE=DATE:20250927
DTEND;TZID=America/New_York;VALUE=DATE:20250929
DTSTAMP:20250929T140535Z
URL:https://kingstonhappenings.org/events/hudson-valley-garlic-festival/
SUMMARY:Hudson Valley Garlic Festival
DESCRIPTION:Get garlic\, eat garlic\, watch chef demos\, browse local artis
 ans\, and enjoy all things garlic.\n\nhttps://www.hvgf.org/\n\n&nbsp\;
ATTACH;FMTTYPE=image/jpeg:https://kingstonhappenings.org/wp-content/upload
 s/2025/09/496095461_1229414425857915_857985208634616574_n.jpg
CATEGORIES:@Featured,@Newsletter,Community,Festivals and major community
 events,Nightlife and entertainment
LOCATION:Cantine Field\, Pavilion St.\, Saugerties\, NY\, 12401\, United St
 ates
GEO:42.0860975;-73.95370249999996
X-APPLE-STRUCTURED-LOCATION;VALUE=URI;X-ADDRESS=Pavilion St.\, Saugerties\,
  NY\, 12401\, United States;X-APPLE-RADIUS=100;X-TITLE=Cantine Field:geo:4
 2.0860975,-73.95370249999996
END:VEVENT
BEGIN:VTIMEZONE
TZID:America/New_York
X-LIC-LOCATION:America/New_York
BEGIN:DAYLIGHT
DTSTART:20250309T030000
TZOFFSETFROM:-0500
TZOFFSETTO:-0400
TZNAME:EDT
END:DAYLIGHT
END:VTIMEZONE
END:VCALENDAR