BEGIN:VCALENDAR
VERSION:2.0
PRODID:-//wp-events-plugin.com//7.2.3.1//EN
TZID:America/New_York
X-WR-TIMEZONE:America/New_York
BEGIN:VEVENT
UID:156420@kingstonhappenings.org
DTSTART;TZID=America/New_York:20260502T190000
DTEND;TZID=America/New_York:20260502T223000
DTSTAMP:20260422T030227Z
URL:https://kingstonhappenings.org/events/hudson-valley-english-country-da
 nce-2/
SUMMARY:Hudson Valley English Country Dance
DESCRIPTION:At 7pm on May 2nd\, Val Medve will teach an English Dance Works
 hop at the Reformed Church of Port Ewen. Dancing to the music of Tiddley P
 om (Sue Polansky on clarinet\, Katie Jeannotte on piano\, Stewart Dean on 
 concertina\, and Robin Shepley on viola) will start at 7:30. Adult admissi
 on :$15\, full-time students $10. Potluck refreshments will be served at t
 he break. Wear comfortable shoes. Come alone or bring friends. For more in
 formation\, call Lindsay at 845-475-2530.
ATTACH;FMTTYPE=image/jpeg:https://kingstonhappenings.org/wp-content/upload
 s/2026/04/thumbnailsimple-quartet-1.jpeg
CATEGORIES:@Featured,Dance
LOCATION:Reformed Church of Port Ewen\, 160 Salem St\, Port Ewen\, New York
 \, United States
GEO:41.9068331;-73.97781470000001
X-APPLE-STRUCTURED-LOCATION;VALUE=URI;X-ADDRESS=160 Salem St\, Port Ewen\, 
 New York\, United States;X-APPLE-RADIUS=100;X-TITLE=Reformed Church of Por
 t Ewen:geo:41.9068331,-73.97781470000001
END:VEVENT
BEGIN:VTIMEZONE
TZID:America/New_York
X-LIC-LOCATION:America/New_York
BEGIN:DAYLIGHT
DTSTART:20260308T030000
TZOFFSETFROM:-0500
TZOFFSETTO:-0400
TZNAME:EDT
END:DAYLIGHT
END:VTIMEZONE
END:VCALENDAR