BEGIN:VCALENDAR
VERSION:2.0
PRODID:-//wp-events-plugin.com//7.2.3.1//EN
TZID:America/New_York
X-WR-TIMEZONE:America/New_York
BEGIN:VEVENT
UID:153247@kingstonhappenings.org
DTSTART;TZID=America/New_York:20251231T180000
DTEND;TZID=America/New_York:20251231T180000
DTSTAMP:20251229T165018Z
URL:https://kingstonhappenings.org/events/hudson-valley-conscious-communit
 y-new-years-eve-gathering/
SUMMARY:Hudson Valley Conscious Community New Year’s Eve Gathering
DESCRIPTION:Join us for a collaborative NYE event to bring us all together 
 in positivity\, resilience\, &amp\; connection for a brighter future.We ar
 e a group of community weavers\, co-creators\, artists\, visionaries\, and
  healers. We are the facilitators of the Hudson Valley Conscious Community
 .\nOfferings Include:\nLive Music\, Biodanza\, Sound Bath\, Zen Den\, Pray
 er\, Sharing Circle\, DJ\, Ecstatic Chant\, Ecstatic Dance\, Kirtan\, Medi
 tation\, Readings\, Live Artists\, Cacao Ceremony\, Workshops\, Blessed Fo
 od\, Elixirs\, Teas\nPerforming Arts Center:\n6:00 - Doors Open\n6:30 - In
 vocation &amp\; Prayer w/ Matoka Little Eagle\n6:50 - Welcome &amp\; Conne
 ctions w/ Michael Raphael\n7:10 - Cacao Ceremony w/ Marely Ilumina\n7:30 -
  Ecstatic Chant w/ Radharani &amp\; Friends\n9:00 - Biodanza w/ Maira Mart
 inez\n10:15 - Sound Bath w/ Melissa Officinalis\n11 - DJ &amp\; Ecstatic D
 ance w/ Sophia Bruun\n11:50 - Collective Prayer &amp\; Setting Intentions 
 w/ Molly McCarthy Tweedy\n12:00 - Celebration w/ Sophia Bruun\nWorkshops:\
 n9 -11:40\nThere will be 4 workshops offered at 40 minute group experience
 s to include:\n9 - Family Constellations w/ Rebecca Stone\n9:40 - Authenti
 c Relating w/ Evan Mason &amp\; Cameron Grayson\n10:20 - Transformational 
 Somatic Group Journey w/ Michael Gabriel\n11 - Group Meditation (ThetaHeal
 ing) w/ Eric Brummet\nZen Den:\n8:30 &amp\; on...\nFacilitated by Stefanie
  Frank\nLounge\, Readings\, Crafts\, Body Work\, Blessed Food\, Teas\, Eli
 xers\, &amp\; more...\nCommunity Contribution:\n10% of the proceeds will b
 e offered to Family of Woodstock for their incredible efforts in providing
  support to our community!\nFor more information\, visit:\nhttps://www.rad
 haranimusic.com/nye2026\nTicket tiers are simply a sliding scale with mean
 ingful choice\, following the sacred reciprocity model. The middle tier is
  intended as pricing for those who can afford it. The lower tier is intend
 ed as pricing for those who could use some support. The higher tier is int
 ended as pricing for those who are able to afford it\, and open/able to su
 pporting those in need.
ATTACH;FMTTYPE=image/jpeg:https://kingstonhappenings.org/wp-content/upload
 s/2025/12/597843869_781450011610876_7719204957910561796_n.jpg
CATEGORIES:@Featured,@Newsletter,Community,Festivals and major community
 events,Music,Nightlife and entertainment
LOCATION:High Meadow School\, 3643 Main St.\, Stone Ridge\, NY\, United Sta
 tes
GEO:41.8497416;-74.14069239999998
X-APPLE-STRUCTURED-LOCATION;VALUE=URI;X-ADDRESS=3643 Main St.\, Stone Ridge
 \, NY\, United States;X-APPLE-RADIUS=100;X-TITLE=High Meadow School:geo:41
 .8497416,-74.14069239999998
END:VEVENT
BEGIN:VTIMEZONE
TZID:America/New_York
X-LIC-LOCATION:America/New_York
BEGIN:STANDARD
DTSTART:20251102T010000
TZOFFSETFROM:-0400
TZOFFSETTO:-0500
TZNAME:EST
END:STANDARD
END:VTIMEZONE
END:VCALENDAR