BEGIN:VCALENDAR
VERSION:2.0
PRODID:-//wp-events-plugin.com//7.2.3.1//EN
TZID:America/New_York
X-WR-TIMEZONE:America/New_York
BEGIN:VEVENT
UID:151483@kingstonhappenings.org
DTSTART;TZID=America/New_York:20250816T120000
DTEND;TZID=America/New_York:20250816T120000
DTSTAMP:20250813T134404Z
URL:https://kingstonhappenings.org/events/hudson-valley-caribbean-festival
 /
SUMMARY:Hudson Valley Caribbean Festival
DESCRIPTION:The 6th Annual Hudson Valley Caribbean Festival comes to Kingst
 on Point Beach\, Saturday\, August 16th.\n\nThis family-friendly event cel
 ebrates Caribbean culture with authentic Caribbean food\, live music\, dan
 ce\, vendors\, activities\, and games for children.\n\nThis event is free 
 to attend. Financial donations are graciously accepted\, as well as donati
 ons of water and volunteer labor.\n\n6th Annual Caribbean Festival\, Satur
 day\, August 16th from noon to 7 PM at Kingston Point Beach\, 53 Delaware 
 Avenue in Kingston.\n\nFor more information\, HudsonValleyCaribbeanFestiva
 l.com.
ATTACH;FMTTYPE=image/jpeg:https://kingstonhappenings.org/wp-content/upload
 s/2025/08/499572954_674910322093568_3941024467860271337_n.jpg
CATEGORIES:@Featured,@Newsletter,Festivals and major community events
LOCATION:Kingston Point Beach\, 2 Delaware Ave.\, Kingston\, NY\, 12401\, U
 nited States
GEO:41.9282924;-73.96262869999998
X-APPLE-STRUCTURED-LOCATION;VALUE=URI;X-ADDRESS=2 Delaware Ave.\, Kingston\
 , NY\, 12401\, United States;X-APPLE-RADIUS=100;X-TITLE=Kingston Point Bea
 ch:geo:41.9282924,-73.96262869999998
END:VEVENT
BEGIN:VTIMEZONE
TZID:America/New_York
X-LIC-LOCATION:America/New_York
BEGIN:DAYLIGHT
DTSTART:20250309T030000
TZOFFSETFROM:-0500
TZOFFSETTO:-0400
TZNAME:EDT
END:DAYLIGHT
END:VTIMEZONE
END:VCALENDAR