BEGIN:VCALENDAR
VERSION:2.0
PRODID:-//wp-events-plugin.com//7.2.3.1//EN
TZID:America/New_York
X-WR-TIMEZONE:America/New_York
BEGIN:VEVENT
UID:152051@kingstonhappenings.org
DTSTART;TZID=America/New_York:20251023T040000
DTEND;TZID=America/New_York:20251023T190000
DTSTAMP:20251020T162418Z
URL:https://kingstonhappenings.org/events/hounds-headstones/
SUMMARY:Hounds &amp\; Headstones
DESCRIPTION:Take a spooky storytelling stroll with your dog through a local
 \, historical cemetery! This casual dog walk through the falling leaves cu
 rves through the older gravestones in Wiltwyck Cemetery\, where costumed s
 torytellers will share stories to tingle your spine. Dogs and their people
  who prefer an autumnal glow can reserve their walk early in the afternoon
 \; those who enjoy a spookier atmosphere can reserve one of the lantern-li
 t walks towards the end of the evening. No ghosts or jump scares\; all age
 s welcome.\n\n&nbsp\;\n\nThis dog walk and storytelling stroll is hosted o
 n Thursday\, October 23rd\, 2025 beginning at 4pm at Wilkwyck Cemetery in 
 Kingston\, NY. Flashlights will be provided\, as well as refreshments. All
  dogs must come leashed and with proof of rabies vaccination. Attendees mu
 st clean up after their dog\, so please bring waste bags and be respectful
  of the cemetery. Tickets are available on our website at www.ucspca.org\;
  100% percent of the proceeds go towards the care of the shelter animals a
 t the Ulster County SPCA!
ATTACH;FMTTYPE=image/jpeg:https://kingstonhappenings.org/wp-content/upload
 s/2025/09/Hounds-Headstones-Banner.png
CATEGORIES:@Featured,@Newsletter,Community
LOCATION:Wiltwyck Cemetery\, 205 West O'Reilly St.\, Kingston\, NY\, 12401\
 , United States
GEO:41.919748;-74.004865
X-APPLE-STRUCTURED-LOCATION;VALUE=URI;X-ADDRESS=205 West O'Reilly St.\, Kin
 gston\, NY\, 12401\, United States;X-APPLE-RADIUS=100;X-TITLE=Wiltwyck Cem
 etery:geo:41.919748,-74.004865
END:VEVENT
BEGIN:VTIMEZONE
TZID:America/New_York
X-LIC-LOCATION:America/New_York
BEGIN:DAYLIGHT
DTSTART:20250309T030000
TZOFFSETFROM:-0500
TZOFFSETTO:-0400
TZNAME:EDT
END:DAYLIGHT
END:VTIMEZONE
END:VCALENDAR