BEGIN:VCALENDAR
VERSION:2.0
PRODID:-//wp-events-plugin.com//7.2.3.1//EN
TZID:America/New_York
X-WR-TIMEZONE:America/New_York
BEGIN:VEVENT
UID:156004@kingstonhappenings.org
DTSTART;TZID=America/New_York:20260329T190000
DTEND;TZID=America/New_York:20260329T190000
DTSTAMP:20260324T190525Z
URL:https://kingstonhappenings.org/events/honky-tonk-last-sunday-presents-
 hudson-valley-flyers/
SUMMARY:Honky Tonk Last Sunday presents Hudson Valley Flyers
DESCRIPTION:The Hudson Valley Flyers proudly bring Honky Tonk and Classic C
 ountry music to the Colony\, "Last Sundays" starting February 25th. The Fl
 yers perform two-steps\, waltzes\, shuffles\, and western-swing music for 
 whatever suits you\, whether it be dancing with a partner\, drinking alone
 \, or just reminiscing. You'll hear songs from the 1930s\, '40s and '50s\,
  from singers such as Hank Williams\, Webb Pierce\, Ernest Tubb\, Bob Will
 s\, and many more. The band is led by Max Rainwater (guitar\, fiddle) and 
 backed by Geoff Harden (bass)\, Ambrose Verdibello (steel guitar)\, Alan T
 homson (piano)\, and Dan Uttendorfer (drums). So\, give your best pal a ca
 ll and come hear some genuine country music at the Colony\, Honky Tonk Las
 t Sunday with the Hudson Valley Flyers.
ATTACH;FMTTYPE=image/jpeg:https://kingstonhappenings.org/wp-content/upload
 s/2026/03/641307864_1570392618219628_5953817615965451223_n.jpg
CATEGORIES:@Featured,@Newsletter,Music,Nightlife and entertainment
LOCATION:Colony Woodstock NY\, 22 Rock City Rd\, Woodstock\, New York\, Uni
 ted States
GEO:42.0424924;-74.11799489999999
X-APPLE-STRUCTURED-LOCATION;VALUE=URI;X-ADDRESS=22 Rock City Rd\, Woodstock
 \, New York\, United States;X-APPLE-RADIUS=100;X-TITLE=Colony Woodstock NY
 :geo:42.0424924,-74.11799489999999
END:VEVENT
BEGIN:VTIMEZONE
TZID:America/New_York
X-LIC-LOCATION:America/New_York
BEGIN:DAYLIGHT
DTSTART:20260308T030000
TZOFFSETFROM:-0500
TZOFFSETTO:-0400
TZNAME:EDT
END:DAYLIGHT
END:VTIMEZONE
END:VCALENDAR