BEGIN:VCALENDAR
VERSION:2.0
PRODID:-//wp-events-plugin.com//7.2.3.1//EN
TZID:America/New_York
X-WR-TIMEZONE:America/New_York
BEGIN:VEVENT
UID:151902@kingstonhappenings.org
DTSTART;TZID=America/New_York:20250925T190000
DTEND;TZID=America/New_York:20250925T203000
DTSTAMP:20250917T012614Z
URL:https://kingstonhappenings.org/events/honey-dont/
SUMMARY:Honey Don't
DESCRIPTION:Honey Don't! is a dark comedy whodunit directed by Ethan Coen\,
  co-written by his wife Tricia Cooke\, starring Margaret Qualley as a Bake
 rsfield private investigator who stumbles into a mystery involving a relig
 ious cult after investigating a local woman's death. The film is described
  as a neon noir with a visually distinctive\, old-school crime film aesthe
 tic and features a score by Carter Burwell. While praised for its entertai
 ning aspects like strong performances and dialogue\, some critics found th
 e narrative disjointed\, thin\, and less complex than the Coen brothers' e
 arlier works.\n\nHoney O'Donahue (Margaret Qualley)\, a hard-boiled privat
 e investigator in Bakersfield\, California and handles infidelity cases bu
 t gets drawn into a more significant mystery involving the death of a loca
 l woman. She investigates the strange deaths\, which become linked to a m
 ysterious church and a religious cult. The film has a dark\, neon noir ae
 sthetic set in the present day but reminiscent of older\n\nHoney Don't! is
  a dark comedy whodunit directed by Ethan Coen\, co-written by his wife Tr
 icia Cooke\, starring Margaret Qualley as a Bakersfield private investigat
 or who stumbles into a mystery involving a religious cult after investigat
 ing a local woman's death. The film is described as a neon noir with a vis
 ually distinctive\, old-school crime film aesthetic and features a score b
 y Carter Burwell. While praised for its entertaining aspects like strong p
 erformances and dialogue\, some critics found the narrative disjointed\, t
 hin\, and less complex than the Coen brothers' earlier works.\n\nHoney O'D
 onahue (Margaret Qualley)\, a hard-boiled private investigator in Bakersfi
 eld\, California and handles infidelity cases but gets drawn into a more s
 ignificant mystery involving the death of a local woman. She investigates
  the strange deaths\, which become linked to a mysterious church and a rel
 igious cult. The film has a dark\, neon noir aesthetic set in the present
  day but reminiscent of older crime films\, complete with a signature scor
 e.\n\ncrime films\, complete with a signature score.
ATTACH;FMTTYPE=image/jpeg:https://kingstonhappenings.org/wp-content/upload
 s/2025/09/HoneyDont-small.jpg
CATEGORIES:@Featured,Movies
LOCATION:Rosendale Theater\, 408 Main St\, Rosendale\, New York\, 12472\, U
 nited States
GEO:41.8441401;-74.0821133
X-APPLE-STRUCTURED-LOCATION;VALUE=URI;X-ADDRESS=408 Main St\, Rosendale\, N
 ew York\, 12472\, United States;X-APPLE-RADIUS=100;X-TITLE=Rosendale Theat
 er:geo:41.8441401,-74.0821133
END:VEVENT
BEGIN:VTIMEZONE
TZID:America/New_York
X-LIC-LOCATION:America/New_York
BEGIN:DAYLIGHT
DTSTART:20250309T030000
TZOFFSETFROM:-0500
TZOFFSETTO:-0400
TZNAME:EDT
END:DAYLIGHT
END:VTIMEZONE
END:VCALENDAR