BEGIN:VCALENDAR
VERSION:2.0
PRODID:-//wp-events-plugin.com//7.2.3.1//EN
TZID:America/New_York
X-WR-TIMEZONE:America/New_York
BEGIN:VEVENT
UID:152732@kingstonhappenings.org
DTSTART;TZID=America/New_York:20251206T090000
DTEND;TZID=America/New_York:20251206T130000
DTSTAMP:20251120T173847Z
URL:https://kingstonhappenings.org/events/holy-cross-santa-cruz-holiday-co
 okie-soup-sale/
SUMMARY:Holy Cross/Santa Cruz Holiday Cookie &amp\; Soup Sale
DESCRIPTION:The Annual Holiday Cookie &amp\; Soup Sale is back!Join us at H
 oly Cross/Santa Cruz\, 30 Pine Grove Avenue in Kingston\, for one of the s
 weetest traditions of the season.\nIndulge in a huge assortment of home-ba
 ked holiday cookies—perfect for gifting\, sharing\, or treating yourself
 . Plus\, take home a delicious selection of homemade soups\, available in 
 convenient quart containers for easy\, cozy winter meals.\nThe sale kicks 
 off at 9:00 AM on Saturday\, December 6th and continues into the early aft
 ernoon—or until everything sells out (and it usually does!). Come early 
 for the best selection of your seasonal favorites.
ATTACH;FMTTYPE=image/jpeg:https://kingstonhappenings.org/wp-content/upload
 s/2025/11/HCSC_CookieSoup.jpg
CATEGORIES:@Featured
LOCATION:Holy Cross/Santa Cruz Church\, 30 Pine Grove Ave\, Kingston\, New 
 York\, 12401\, United States
GEO:41.926792;-74.000307
X-APPLE-STRUCTURED-LOCATION;VALUE=URI;X-ADDRESS=30 Pine Grove Ave\, Kingsto
 n\, New York\, 12401\, United States;X-APPLE-RADIUS=100;X-TITLE=Holy Cross
 /Santa Cruz Church:geo:41.926792,-74.000307
END:VEVENT
BEGIN:VTIMEZONE
TZID:America/New_York
X-LIC-LOCATION:America/New_York
BEGIN:STANDARD
DTSTART:20251102T010000
TZOFFSETFROM:-0400
TZOFFSETTO:-0500
TZNAME:EST
END:STANDARD
END:VTIMEZONE
END:VCALENDAR