BEGIN:VCALENDAR
VERSION:2.0
PRODID:-//wp-events-plugin.com//7.2.3.1//EN
TZID:America/New_York
X-WR-TIMEZONE:America/New_York
BEGIN:VEVENT
UID:152727@kingstonhappenings.org
DTSTART;TZID=America/New_York:20251212T200000
DTEND;TZID=America/New_York:20251213T213000
DTSTAMP:20251208T204600Z
URL:https://kingstonhappenings.org/events/holidelic/
SUMMARY:HOLIDELIC!
DESCRIPTION:Friday\, December 12\, 8:00 PM\nSaturday\, December 13\, 8:00 P
 M\n$45 General Admission\n90 minutes\nBlack Box Theater\, Studio Complex\n
 Join us for the highly anticipated return of GRAMMY-nominated performer an
 d percussionist Everett Bradley’s HOLIDELIC\, a sensational holiday funk
  revue that will electrify your senses.\nCritics have raved about HOLIDELI
 C\, describing it as “a flashy\, bass-heavy retro-futuristic take on the
  holidays” (The New Yorker) and “a holiday funk-tacular” (Time Out N
 ew York). Bradley\, known for his work with Bruce Springsteen and Bon Jovi
 \, takes on the role of Papadelic\, Funk’s Father Christmas\, an amalgam
 ation of George Clinton and Santa Claus.\nWith original songs and an ensem
 ble of top-notch musicians\, HOLIDELIC will transport you to a world where
  funk meets Christmas joy. Don’t miss this two-day run on December 12 to
  13. Get your tickets now for an unforgettable experience that will liven 
 up your holiday festivities with pulsating rhythms and fresh spins on fami
 liar sentiments.\nTickets and more information here: https://ci.ovationtix
 .com/36035/production/1256190
ATTACH;FMTTYPE=image/jpeg:https://kingstonhappenings.org/wp-content/upload
 s/2025/11/mikiodo231216_01372_LR.jpg
CATEGORIES:@Featured,@Newsletter,Community,Music,Nightlife and
 entertainment
LOCATION:Kaatsbaan Cultural Park\, 120 Broadway\, Tivoli\, NY\, United Stat
 es
GEO:42.058652;-73.916093
X-APPLE-STRUCTURED-LOCATION;VALUE=URI;X-ADDRESS=120 Broadway\, Tivoli\, NY\
 , United States;X-APPLE-RADIUS=100;X-TITLE=Kaatsbaan Cultural Park:geo:42.
 058652,-73.916093
END:VEVENT
BEGIN:VTIMEZONE
TZID:America/New_York
X-LIC-LOCATION:America/New_York
BEGIN:STANDARD
DTSTART:20251102T010000
TZOFFSETFROM:-0400
TZOFFSETTO:-0500
TZNAME:EST
END:STANDARD
END:VTIMEZONE
END:VCALENDAR