BEGIN:VCALENDAR
VERSION:2.0
PRODID:-//wp-events-plugin.com//7.2.3.1//EN
TZID:America/New_York
X-WR-TIMEZONE:America/New_York
BEGIN:VEVENT
UID:153237@kingstonhappenings.org
DTSTART;TZID=America/New_York:20251223T110000
DTEND;TZID=America/New_York:20251223T110000
DTSTAMP:20251222T170953Z
URL:https://kingstonhappenings.org/events/holiday-brunch/
SUMMARY:HOLIDAY BRUNCH
DESCRIPTION:COME TOGETHER FOR A WARM\, FREE HOLIDAY BRUNCH WITH NEIGHBORS\,
  FRIENDS\, AND FAMILIES. LET'S SHARE JOY AND CELEBRATE THE SEASON!
ATTACH;FMTTYPE=image/jpeg:https://kingstonhappenings.org/wp-content/upload
 s/2025/12/592753743_886439434133449_2743083298898672864_n.jpg
CATEGORIES:@Featured,@Newsletter,Community
LOCATION:Broadway Bubble Laundromat\, 718 Broadway\, Kingston\, NY\, 12401\
 , United States
GEO:41.93186;-74.009109
X-APPLE-STRUCTURED-LOCATION;VALUE=URI;X-ADDRESS=718 Broadway\, Kingston\, N
 Y\, 12401\, United States;X-APPLE-RADIUS=100;X-TITLE=Broadway Bubble Laund
 romat:geo:41.93186,-74.009109
END:VEVENT
BEGIN:VTIMEZONE
TZID:America/New_York
X-LIC-LOCATION:America/New_York
BEGIN:STANDARD
DTSTART:20251102T010000
TZOFFSETFROM:-0400
TZOFFSETTO:-0500
TZNAME:EST
END:STANDARD
END:VTIMEZONE
END:VCALENDAR