BEGIN:VCALENDAR
VERSION:2.0
PRODID:-//wp-events-plugin.com//7.2.3.1//EN
TZID:America/New_York
X-WR-TIMEZONE:America/New_York
BEGIN:VEVENT
UID:152765@kingstonhappenings.org
DTSTART;TZID=America/New_York:20251206T100000
DTEND;TZID=America/New_York:20251214T160000
DTSTAMP:20251122T023212Z
URL:https://kingstonhappenings.org/events/historical-society-of-woodstocks
 -holiday-market-fair/
SUMMARY:Historical Society of Woodstock's Holiday Market Fair
DESCRIPTION:The Historical Society of Woodstock\, located at 20 Comeau Driv
 e in Woodstock\, is pleased to announce its annual Holiday Market Fair. Be
 ginning Friday December 5\, from 12:00 to 4:00 p.m.\, it continues Saturda
 ys and Sundays\, December 6\, 7\, 13\, and 14 from 10:00 a.m. to 4:00 p.m.
  each day. Shop local crafts\, holiday cards\, local books\, original artw
 ork\, delectable treats\, handknit items and more.
ATTACH;FMTTYPE=image/jpeg:https://kingstonhappenings.org/wp-content/upload
 s/2025/11/Sleigh.jpg
CATEGORIES:@Featured,Market
LOCATION:Historical Society of Woodstock\, 20 Comeau Drive\, Woodstock\, ny
 \, United States
GEO:42.039163;-74.124058
X-APPLE-STRUCTURED-LOCATION;VALUE=URI;X-ADDRESS=20 Comeau Drive\, Woodstock
 \, ny\, United States;X-APPLE-RADIUS=100;X-TITLE=Historical Society of Woo
 dstock:geo:42.039163,-74.124058
END:VEVENT
BEGIN:VTIMEZONE
TZID:America/New_York
X-LIC-LOCATION:America/New_York
BEGIN:STANDARD
DTSTART:20251102T010000
TZOFFSETFROM:-0400
TZOFFSETTO:-0500
TZNAME:EST
END:STANDARD
END:VTIMEZONE
END:VCALENDAR