BEGIN:VCALENDAR
VERSION:2.0
PRODID:-//wp-events-plugin.com//7.2.3.1//EN
TZID:America/New_York
X-WR-TIMEZONE:America/New_York
BEGIN:VEVENT
UID:152036@kingstonhappenings.org
DTSTART;TZID=America/New_York:20251231T130000
DTEND;TZID=America/New_York:20251231T150000
DTSTAMP:20250922T164405Z
URL:https://kingstonhappenings.org/events/historic-reher-bakery-drop-in-ho
 urs-2-2025-12-31/
SUMMARY:Historic Reher Bakery Drop-In Hours
DESCRIPTION:For nearly a century\, two generations of the Jewish immigrant 
 Reher family ran a bakery from the storefront of 101 Broadway in Kingston\
 , New York\, and lived upstairs. Kingston residents of the surrounding Ron
 dout neighborhood\, mostly working class and immigrant\, came to Reher’s
  for bread\, canned goods\, and gossip.\n\nToday\, the site is a museum an
 d cultural center that preserves and honors the legacy of Reher's Bakery t
 hrough amplifying immigrant stories of the Hudson Valley\, past and presen
 t.\n\nVisiting with Children: Families are welcome on our Historic Bakery
  Tours and in our gallery. We find the Historic Bakery Tour experience is 
 best suited for children ages 6 and up.\n\nParking: Parking along Spring 
 Street is free. Metered parking is available along Broadway\, free on Sund
 ay. There is a free municipal lot on Rondout Landing at the foot of Broadw
 ay.
ATTACH;FMTTYPE=image/jpeg:https://kingstonhappenings.org/wp-content/upload
 s/2025/09/KLG_4541.jpg
CATEGORIES:Attraction Hours,Community,Museum and historic site hours
LOCATION:Reher Center for Immigrant Culture and History\, 99-101 Broadway\,
  Kingston\, NY\, 12401\, United States
GEO:41.920121;-73.986003
X-APPLE-STRUCTURED-LOCATION;VALUE=URI;X-ADDRESS=99-101 Broadway\, Kingston\
 , NY\, 12401\, United States;X-APPLE-RADIUS=100;X-TITLE=Reher Center for I
 mmigrant Culture and History:geo:41.920121,-73.986003
END:VEVENT
BEGIN:VTIMEZONE
TZID:America/New_York
X-LIC-LOCATION:America/New_York
BEGIN:STANDARD
DTSTART:20251102T010000
TZOFFSETFROM:-0400
TZOFFSETTO:-0500
TZNAME:EST
END:STANDARD
END:VTIMEZONE
END:VCALENDAR