BEGIN:VCALENDAR
VERSION:2.0
PRODID:-//wp-events-plugin.com//7.2.3.1//EN
TZID:America/New_York
X-WR-TIMEZONE:America/New_York
BEGIN:VEVENT
UID:156340@kingstonhappenings.org
DTSTART;TZID=America/New_York:20260514T170000
DTEND;TZID=America/New_York:20260625T170000
DTSTAMP:20260419T190633Z
URL:https://kingstonhappenings.org/events/high-school-sailing-club-6-sessi
 ons-begin-with-orientation/
SUMMARY:High School Sailing Club - 6 Sessions Begin with Orientation
DESCRIPTION:This six-session class (18 hours total) is designed for youth a
 ges 13 - 17 who are either new to dinghy sailing or who would like additio
 nal opportunities to get out on the water\, make new friends from differen
 t communities\, and learn more about sailing.\n\nSpring Session: Orientati
 on: Thursday\, May 14 5:00 to 6:30 pm. Classes will be Thursdays\, 3:30 - 
 6:30 pm\, May 21 &amp\; 28\; June 4\, 11\, 18 &amp\; 25.\n\nUS Sailing-cer
 tified instructors will teach or review the basics of sailing in brief on-
 land chalk talks\, creative land drills and on the water in our fleet of d
 inghy sailboats.  Participants will practice various crew and skipper ski
 lls while working as teams with other students. Instructors will coach fro
 m nearby safety boats.\n\nRegister by May 13th\n\nGeneral Public: $375\; M
 embers at the Individual Level &amp\; Above: $337.50.\n\nBecome a member a
 nd enjoy discounts and other benefits for as little as $5 per month or $40
 !
ATTACH;FMTTYPE=image/jpeg:https://kingstonhappenings.org/wp-content/upload
 s/2026/04/high-school-sailing.jpeg
CATEGORIES:@Featured,Sports and recreation
LOCATION:Hudson River Maritime Museum\, 50 Rondout Landing\, Kingston\, NY\
 , 12401\, United States
GEO:41.91886;-73.980984
X-APPLE-STRUCTURED-LOCATION;VALUE=URI;X-ADDRESS=50 Rondout Landing\, Kingst
 on\, NY\, 12401\, United States;X-APPLE-RADIUS=100;X-TITLE=Hudson River Ma
 ritime Museum:geo:41.91886,-73.980984
END:VEVENT
BEGIN:VTIMEZONE
TZID:America/New_York
X-LIC-LOCATION:America/New_York
BEGIN:DAYLIGHT
DTSTART:20260308T030000
TZOFFSETFROM:-0500
TZOFFSETTO:-0400
TZNAME:EDT
END:DAYLIGHT
END:VTIMEZONE
END:VCALENDAR