BEGIN:VCALENDAR
VERSION:2.0
PRODID:-//wp-events-plugin.com//7.2.3.1//EN
TZID:America/New_York
X-WR-TIMEZONE:America/New_York
BEGIN:VEVENT
UID:152458@kingstonhappenings.org
DTSTART;TZID=America/New_York:20251101T193000
DTEND;TZID=America/New_York:20251101T193000
DTSTAMP:20251103T124619Z
URL:https://kingstonhappenings.org/events/hermans-hermits-starring-peter-n
 oone-and-the-grass-roots/
SUMMARY:Herman's Hermits Starring Peter Noone and The Grass Roots
DESCRIPTION:Peter Blair Denis Bernard Noone is a multi-talented entertainer
 \, who has been delighting audiences nearly all his life. He was born in M
 anchester\, England\, where he studied voice and acting at St. Bede’s Co
 llege and the Manchester School of Music and Drama. As a child\, he played
  “Stanley Fairclough” in the long-running British soap opera Coronatio
 n Street. He was also featured in the television series Knight Errant\, Fa
 mily Solicitor and Monro’s Saki Stories.\nAt the age of fifteen\, Peter 
 achieved international fame as “Herman”\, lead singer of the legendary
  pop band Herman’s Hermits. His classic hits include: “I’m Into Some
 thing Good”\, “Mrs. Brown\, You’ve Got A Lovely Daughter”\, “I
 ’m Henry VIII\, I Am”\, “Silhouettes”\, “Can’t You Hear My Hea
 rtbeat”\, “Wonderful World”\, “Just A Little Bit Better”\, “Th
 ere’s A Kind of Hush”\, “A Must To Avoid”\, “Listen People”\, 
 “No Milk Today”\, “The End of the World”\, “Leaning On A Lamp Po
 st”\, and “Dandy”. Ultimately\, Herman’s Hermits sold over fifty-t
 wo million recordings. In all\, fourteen singles and seven albums went gol
 d.
ATTACH;FMTTYPE=image/jpeg:https://kingstonhappenings.org/wp-content/upload
 s/2025/10/536269945_1305236474306951_3056554132533914310_n.jpg
CATEGORIES:@Featured,@Newsletter,Music,Nightlife and entertainment
LOCATION:Ulster Performing Arts Center (UPAC)\, 601 Broadway\, Kingston\, N
 ew York\, 12401\, United States
GEO:41.92931799999999;-74.004142
X-APPLE-STRUCTURED-LOCATION;VALUE=URI;X-ADDRESS=601 Broadway\, Kingston\, N
 ew York\, 12401\, United States;X-APPLE-RADIUS=100;X-TITLE=Ulster Performi
 ng Arts Center (UPAC):geo:41.92931799999999,-74.004142
END:VEVENT
BEGIN:VTIMEZONE
TZID:America/New_York
X-LIC-LOCATION:America/New_York
BEGIN:DAYLIGHT
DTSTART:20250309T030000
TZOFFSETFROM:-0500
TZOFFSETTO:-0400
TZNAME:EDT
END:DAYLIGHT
END:VTIMEZONE
END:VCALENDAR