BEGIN:VCALENDAR
VERSION:2.0
PRODID:-//wp-events-plugin.com//7.2.3.1//EN
TZID:America/New_York
X-WR-TIMEZONE:America/New_York
BEGIN:VEVENT
UID:155041@kingstonhappenings.org
DTSTART;TZID=America/New_York:20260130T170000
DTEND;TZID=America/New_York:20260530T180000
DTSTAMP:20260131T014940Z
URL:https://kingstonhappenings.org/events/happy-hour-at-edgewood-restauran
 t-bar/
SUMMARY:Happy Hour at Edgewood Restaurant + Bar
DESCRIPTION:Located in the historic mansion at Hutton Brickyards\, Edgewood
 ’s Grand Oak Bar is dark and moody with intimate corners\, banquettes\, 
 a cozy window seat\, and view of the Hudson. The “Bistro” invites you 
 to sink in and savor life’s little pleasures.\n\nJoin us for deals on li
 ght bites and bar fare\, beer\, wine\, and our signature cocktails. Dinner
  menu also available in the bar.\n\n&nbsp\;\n\nHAPPY HOUR:\n\nThursdays: 5
 PM-6PM\n\nFridays: 5PM-6PM\n\nSaturdays: 5PM-6PM\n\n&nbsp\;\n\nReservation
 s encouraged but not required. Hope to see you soon!\n\n*Happy Hour deals 
 only available at the bar*\n\n&nbsp\;\n\nVisit our two seasonal restaurant
 s at Hutton Brickyards. Edgewood open November-April. River Pavilion open
  for the season Spring 2026!
ATTACH;FMTTYPE=image/jpeg:https://kingstonhappenings.org/wp-content/upload
 s/2026/01/hutton-brickyards-50-copy.jpg
CATEGORIES:Happy Hours,Nightlife and entertainment
LOCATION:EDGEWOOD RESTAURANT & BAR\, 132 Lindsey Ave\, KINGSTON\, NY\, 1240
 1\, United States
GEO:41.93003;-73.973736
X-APPLE-STRUCTURED-LOCATION;VALUE=URI;X-ADDRESS=132 Lindsey Ave\, KINGSTON\
 , NY\, 12401\, United States;X-APPLE-RADIUS=100;X-TITLE=EDGEWOOD RESTAURAN
 T & BAR:geo:41.93003,-73.973736
END:VEVENT
BEGIN:VTIMEZONE
TZID:America/New_York
X-LIC-LOCATION:America/New_York
BEGIN:STANDARD
DTSTART:20251102T010000
TZOFFSETFROM:-0400
TZOFFSETTO:-0500
TZNAME:EST
END:STANDARD
BEGIN:DAYLIGHT
DTSTART:20260308T030000
TZOFFSETFROM:-0500
TZOFFSETTO:-0400
TZNAME:EDT
END:DAYLIGHT
END:VTIMEZONE
END:VCALENDAR