BEGIN:VCALENDAR
VERSION:2.0
PRODID:-//wp-events-plugin.com//7.2.3.1//EN
TZID:America/New_York
X-WR-TIMEZONE:America/New_York
BEGIN:VEVENT
UID:152149@kingstonhappenings.org
DTSTART;TZID=America/New_York:20251011T120000
DTEND;TZID=America/New_York:20251011T120000
DTSTAMP:20251012T231519Z
URL:https://kingstonhappenings.org/events/halloween-party/
SUMMARY:Halloween Party
DESCRIPTION:Get ready for a frightfully fun afternoon at the library! Join 
 us for our annual Halloween Party filled with games\, crafts\, and treats 
 for all ages. Celebrate Halloween in ghoulishly good style and come in cos
 tume.Space is limited\, sign up here: https://hurleylibrary.libcal.com/ev
 ent/15365438
ATTACH;FMTTYPE=image/jpeg:https://kingstonhappenings.org/wp-content/upload
 s/2025/10/555439934_1219278443560375_3976855053964032936_n.jpg
CATEGORIES:@Featured,@Newsletter,For kids
LOCATION:Hurley Library\, 48 Main St\, Hurley\, New York\, United States
GEO:41.9253483;-74.06352420000002
X-APPLE-STRUCTURED-LOCATION;VALUE=URI;X-ADDRESS=48 Main St\, Hurley\, New Y
 ork\, United States;X-APPLE-RADIUS=100;X-TITLE=Hurley Library:geo:41.92534
 83,-74.06352420000002
END:VEVENT
BEGIN:VTIMEZONE
TZID:America/New_York
X-LIC-LOCATION:America/New_York
BEGIN:DAYLIGHT
DTSTART:20250309T030000
TZOFFSETFROM:-0500
TZOFFSETTO:-0400
TZNAME:EDT
END:DAYLIGHT
END:VTIMEZONE
END:VCALENDAR