BEGIN:VCALENDAR
VERSION:2.0
PRODID:-//wp-events-plugin.com//7.2.3.1//EN
TZID:America/New_York
X-WR-TIMEZONE:America/New_York
BEGIN:VEVENT
UID:152406@kingstonhappenings.org
DTSTART;TZID=America/New_York:20251024T190000
DTEND;TZID=America/New_York:20251024T220000
DTSTAMP:20251020T162421Z
URL:https://kingstonhappenings.org/events/halloween-karaoke-at-castaways/
SUMMARY:Halloween Karaoke at Castaways
DESCRIPTION:Join us for some Halloween Karaoke at Castaways. Great food and
  drink\, karaoke\, and even some prizes. Don't miss it!
ATTACH;FMTTYPE=image/jpeg:https://kingstonhappenings.org/wp-content/upload
 s/2025/10/564650992_800072242993474_1692025804466025811_n.jpg
CATEGORIES:@Featured,@Newsletter,Community,Festivals and major community
 events,Nightlife and entertainment
LOCATION:Castaways Bar and Grill\, 160 1st St\, Connelly\, NY\, 12417\, Uni
 ted States
GEO:41.911152;-73.993801
X-APPLE-STRUCTURED-LOCATION;VALUE=URI;X-ADDRESS=160 1st St\, Connelly\, NY\
 , 12417\, United States;X-APPLE-RADIUS=100;X-TITLE=Castaways Bar and Grill
 :geo:41.911152,-73.993801
END:VEVENT
BEGIN:VTIMEZONE
TZID:America/New_York
X-LIC-LOCATION:America/New_York
BEGIN:DAYLIGHT
DTSTART:20250309T030000
TZOFFSETFROM:-0500
TZOFFSETTO:-0400
TZNAME:EDT
END:DAYLIGHT
END:VTIMEZONE
END:VCALENDAR