BEGIN:VCALENDAR
VERSION:2.0
PRODID:-//wp-events-plugin.com//7.2.3.1//EN
TZID:America/New_York
X-WR-TIMEZONE:America/New_York
BEGIN:VEVENT
UID:151619@kingstonhappenings.org
DTSTART;TZID=America/New_York:20251101T173000
DTEND;TZID=America/New_York:20251101T203000
DTSTAMP:20251029T115320Z
URL:https://kingstonhappenings.org/events/hallowed/
SUMMARY:Hallowed
DESCRIPTION:HALLOWED\nSTEP INTO THE TRUE ESSENCE OF HALLOWEEN\nSaturday Nov
 ember 1st \,Widow Jane Mine\, Rosendale 5:30-8:30pm  \nCelebrate the live
 s of those that have passed on with:\n\n 	Candle Lighting\n 	Ancestral Com
 munity Altar\n 	 Spirit Masquerade\n\nJoin us in honoring our departed an
 cestors and friends as the veil between worlds is thought to be thinnest 
 at this time of year. \n\nMany cultures honor the departed on this day wi
 th observances like Día de Muertos\, Samhain\, Giorno dei Morti\, and Al
 l Souls’ Day. This is our community's co-creation. \n\nThe evening begi
 ns with silent candle lighting\, followed by a community masquerade celeb
 rating the lives of those that have passed on. \n\nMore information and t
 ickets: https://widowjanemine.ticketspice.com/hallowed25\n\nAnd about Circ
 le Creative Collective: https://www.circlecreativecollective.org/\n\n&nbsp
 \;
ATTACH;FMTTYPE=image/jpeg:https://kingstonhappenings.org/wp-content/upload
 s/2025/08/Hallowed-2025-IG.jpg
CATEGORIES:@Featured,@Newsletter,Festivals and major community
 events,Music
LOCATION:The Snyder Estate\, 668 Route 213\, Rosendale\, New York\, United 
 States
GEO:41.840979;-74.097719
X-APPLE-STRUCTURED-LOCATION;VALUE=URI;X-ADDRESS=668 Route 213\, Rosendale\,
  New York\, United States;X-APPLE-RADIUS=100;X-TITLE=The Snyder Estate:geo
 :41.840979,-74.097719
END:VEVENT
BEGIN:VTIMEZONE
TZID:America/New_York
X-LIC-LOCATION:America/New_York
BEGIN:DAYLIGHT
DTSTART:20250309T030000
TZOFFSETFROM:-0500
TZOFFSETTO:-0400
TZNAME:EDT
END:DAYLIGHT
END:VTIMEZONE
END:VCALENDAR