BEGIN:VCALENDAR
VERSION:2.0
PRODID:-//wp-events-plugin.com//7.2.3.1//EN
TZID:America/New_York
X-WR-TIMEZONE:America/New_York
BEGIN:VEVENT
UID:152460@kingstonhappenings.org
DTSTART;TZID=America/New_York:20251101T173000
DTEND;TZID=America/New_York:20251101T173000
DTSTAMP:20251029T115320Z
URL:https://kingstonhappenings.org/events/hallowed-a-day-of-the-dead-masqu
 erade-and-candle-lighting/
SUMMARY:HALLOWED: A Day of the Dead Masquerade and Candle Lighting
DESCRIPTION:Step into the true essence of halloween and celebrate the lives
  of those that have passed on with: • Candle Lighting • Ancestral Comm
 unity Altar • Spirit Masquerade. Join us in honoring our departed ancest
 ors and friends as the veil between worlds is thought to be thinnest at th
 is time of year. Many cultures honor the departed on this day with observa
 nces like Día de Muertos\, Samhain\, Giorno dei Morti\, and All Souls’ 
 Day. This is our community's co-creation. Dress to honor a loved one.\nAdv
 ance Tickets needed at: https://www.circlecreativecollective.org/calendar
 /hallowed25
ATTACH;FMTTYPE=image/jpeg:https://kingstonhappenings.org/wp-content/upload
 s/2025/10/556016197_1210542044453529_6370177793368425166_n.jpg
CATEGORIES:@Featured,@Newsletter,Music,Nightlife and entertainment,Theater
LOCATION:The Snyder Estate\, 668 Route 213\, Rosendale\, New York\, United 
 States
GEO:41.840979;-74.097719
X-APPLE-STRUCTURED-LOCATION;VALUE=URI;X-ADDRESS=668 Route 213\, Rosendale\,
  New York\, United States;X-APPLE-RADIUS=100;X-TITLE=The Snyder Estate:geo
 :41.840979,-74.097719
END:VEVENT
BEGIN:VTIMEZONE
TZID:America/New_York
X-LIC-LOCATION:America/New_York
BEGIN:DAYLIGHT
DTSTART:20250309T030000
TZOFFSETFROM:-0500
TZOFFSETTO:-0400
TZNAME:EDT
END:DAYLIGHT
END:VTIMEZONE
END:VCALENDAR