BEGIN:VCALENDAR
VERSION:2.0
PRODID:-//wp-events-plugin.com//7.2.3.1//EN
TZID:America/New_York
X-WR-TIMEZONE:America/New_York
BEGIN:VEVENT
UID:152447@kingstonhappenings.org
DTSTART;TZID=America/New_York:20251101T190000
DTEND;TZID=America/New_York:20251101T220000
DTSTAMP:20251029T115322Z
URL:https://kingstonhappenings.org/events/gypsy-jazz-collective/
SUMMARY:Gypsy Jazz Collective
DESCRIPTION:Drawing from a pool of the best musicians in the area\, the Gyp
 sy Jazz Collective presents music in the style of and inspired by the genr
 e created by Django Reinhardt and Stephane Grappelli\, a musical tradition
  that is still very alive today. Their repertoire ranges from hot classics
  of the 1930s and 1940s\, all the way up to modern compositions of the 202
 0s. The Collective is a venue for musicians to present original music in a
 ddition to old favorites.\n\n&nbsp\;\n\nMichael Snow — violin\n\nLuke He
 ndon — guitar\n\nSean Crimmins — guitar\n\nChris Macchia — bass\n\n
 &nbsp\;\n\nOriginal compositions by Michael Snow\, Luke Hendon\, and Sean 
 Crimmins will be featured along with a varied selection of gypsy jazz favo
 rites\, old and new.\n\nJoin us for dinner and drinks including “the bes
 t duck in the Hudson Valley”\n\nSuggested $20 donation for music\n\nRese
 rvations are recommended – call 845-687-NERD (6373)
ATTACH;FMTTYPE=image/jpeg:https://kingstonhappenings.org/wp-content/upload
 s/2025/10/2025.11.01_Gypsy-Jazz2.jpg
CATEGORIES:@Featured,@Newsletter,Music
LOCATION:Lydia's Cafe\, 7 Old U.S. 209\, Stone Ridge\, New York\, United St
 ates
GEO:41.8306145;-74.17658890000001
X-APPLE-STRUCTURED-LOCATION;VALUE=URI;X-ADDRESS=7 Old U.S. 209\, Stone Ridg
 e\, New York\, United States;X-APPLE-RADIUS=100;X-TITLE=Lydia's Cafe:geo:4
 1.8306145,-74.17658890000001
END:VEVENT
BEGIN:VTIMEZONE
TZID:America/New_York
X-LIC-LOCATION:America/New_York
BEGIN:DAYLIGHT
DTSTART:20250309T030000
TZOFFSETFROM:-0500
TZOFFSETTO:-0400
TZNAME:EDT
END:DAYLIGHT
END:VTIMEZONE
END:VCALENDAR